BEGIN:VCALENDAR
PRODID:NingEventWidget-v1
VERSION:2.0
METHOD:PUBLISH
BEGIN:VTIMEZONE
TZID:Europe/Paris
X-LIC-LOCATION:Europe/Paris
BEGIN:DAYLIGHT
TZOFFSETFROM:+0100
TZOFFSETTO:+0200
TZNAME:CEST
DTSTART:19700329T020000
RRULE:FREQ=YEARLY;BYMONTH=3;BYDAY=-1SU
END:DAYLIGHT
BEGIN:STANDARD
TZOFFSETFROM:+0200
TZOFFSETTO:+0100
TZNAME:CET
DTSTART:19701025T030000
RRULE:FREQ=YEARLY;BYMONTH=10;BYDAY=-1SU
END:STANDARD
END:VTIMEZONE
BEGIN:VEVENT
UID:2485226:Event:640113
DTSTAMP:20260424T004049Z
SUMMARY:Amelioration de la sante par l'eau
DESCRIPTION:Je vous inviteÂ  Ã  venir assister Ã  la prÃ©sentation de 
 la transformation de notre eau banale du robinet en une eau aux vertus
  therapeutiques exceptionnelles validÃ©e par le Ministere du Japon et 
 utilisÃ©e dans une centaine d'hopitaux.\nJ'ai trouvÃ© cette prÃ©sentat
 ion par J.L Jeantieu, ingenieur en Genie Electrique se consacrant aujo
 urd'hui Ã  l'Ecologie de Vie Interieure, absolument surprenante et je 
 tenais Ã  vous la faire partager.\nVenez donc assister Ã  une rÃ©union
  d'information sur cette eau, dÃ©couverte il y a plus de 35 ans au Jap
 on et disponible en France depuis 2 ans, vous y verrez alors toutes le
 s dÃ©monstrations nÃ©cessaires pour comprendre les bienfaits de celle-
 ci.\nLors de sa prÃ©sentation il va nous expliquer les bienfaits de ce
 tte eau : une information riche sera partagÃ©e, mettant en Ã©vidence l
 es propriÃ©tÃ©s exceptionnelles de cette eau, comme :- Anti oxydante :
  eau anti-Ã¢ge, antivieillissement et anti-inflammatoire. Elle protÃ¨g
 e le corps de lâ€™oxydation.- Hyper hydratante : La structure molÃ©cul
 aire Ã©tant plus petite, elle est assimilÃ©e six fois plus rapidement.
  Cela permet Ã  cette eau de passer plus Â« rapidement Â» la membrane 
 des cellules, dâ€™Ã©liminer les toxines Ã  lâ€™extÃ©rieur et de dÃ©tox
 ifier Ã  lâ€™intÃ©rieur, puis de dÃ©barrasser votre corps des dÃ©chets
  acides. Câ€™est comme si votre corps Ã©tait la vÃ© Ã  grande eau.- Al
 caline : Le professeur Otto Warburg (prix nobel de mÃ©decine en 1931) 
 disait que les maladies ne pouvaient sâ€™installer dans un corps alcal
 in. Plus de 90% des maladies sont liÃ©es Ã  lâ€™aciditÃ© de notre corp
 s. Cette eau neutralise lâ€™aciditÃ© de notre corps.\nIL vous sera alo
 rs prÃ©sentÃ©,comment Ã  partir de l'eau de robinetÂ classique cette e
 au exceptionnelle peut etre crÃ©Ã©e\nAmenez 2 bouteilles vides de 5 li
 tres afin de repartir avec votre eau.\nPOUR PLUS D INFOS TEL:061488971
 2\nQuand vous arrivez Ã  la rÃ©sidence, faire dÃ©filer les noms jusquâ
 €™Ã  Â«Â Centre du ParcÂ Â» et sonnez. Le cabinet est au rez de chauss
 Ã©e, porte de gauche (cabinet de kinÃ© \"Centre du Parc\")\n\nPour plu
 s d'information, aller sur https://epanews.fr/events/amelioration-de-l
 a-sante-par-l-eau
DTSTART;TZID=Europe/Paris:20120115T193000
DTEND;TZID=Europe/Paris:20120115T210000
CATEGORIES:75
LOCATION:PARIS
WEBSITE:
URL:
CONTACT:Jean Luc::0614889712
ORGANIZER:Arthur ET Jean Luc
ATTACH;FMTTYPE="image/jpeg":
ATTENDEE;ROLE=REQ-PARTICIPANT;PARTSTAT=ACCEPTED;RSVP=TRUE;CN=arthur:ht
 tps://epanews.fr/profile/arthur
END:VEVENT
END:VCALENDAR
