BEGIN:VCALENDAR
PRODID:NingEventWidget-v1
VERSION:2.0
METHOD:PUBLISH
BEGIN:VTIMEZONE
TZID:Europe/Paris
X-LIC-LOCATION:Europe/Paris
BEGIN:DAYLIGHT
TZOFFSETFROM:+0100
TZOFFSETTO:+0200
TZNAME:CEST
DTSTART:19700329T020000
RRULE:FREQ=YEARLY;BYMONTH=3;BYDAY=-1SU
END:DAYLIGHT
BEGIN:STANDARD
TZOFFSETFROM:+0200
TZOFFSETTO:+0100
TZNAME:CET
DTSTART:19701025T030000
RRULE:FREQ=YEARLY;BYMONTH=10;BYDAY=-1SU
END:STANDARD
END:VTIMEZONE
BEGIN:VEVENT
UID:2485226:Event:2874103
DTSTAMP:20260422T054147Z
SUMMARY:Séance de Biodanza Toulouse
DESCRIPTION:Bienvenue au cours de Biodanza à l’École de Danse Gill
 es Vézien, 5 place Roger Arnaud, 31400 Toulouse. Quartier Côte Pavé
 , près du pont des Demoiselles. Le lieu est facilement accessible en 
 voiture, parking sur place.\n\n\nPour plus d'information, aller sur ht
 tps://epanews.fr/events/amaryllis-1
DTSTART;TZID=Europe/Paris:20170919T203000
DTEND;TZID=Europe/Paris:20170919T223000
CATEGORIES:31
LOCATION:Toulouse
WEBSITE:http://www.espaceallegria.com/
URL:http://www.espaceallegria.com/
CONTACT:06 45 53 72 38
ORGANIZER;CN=Amaryllis:https://epanews.fr/profile/Amaryllis
ATTACH;FMTTYPE="image/jpeg":http://storage.ning.com/topology/rest/1.0/
 file/get/1663691903?profile=original
ATTENDEE;ROLE=REQ-PARTICIPANT;PARTSTAT=ACCEPTED;RSVP=TRUE;CN=Amaryllis
 :https://epanews.fr/profile/Amaryllis
END:VEVENT
END:VCALENDAR
