BEGIN:VCALENDAR
PRODID:NingEventWidget-v1
VERSION:2.0
METHOD:PUBLISH
BEGIN:VTIMEZONE
TZID:Europe/Paris
X-LIC-LOCATION:Europe/Paris
BEGIN:DAYLIGHT
TZOFFSETFROM:+0100
TZOFFSETTO:+0200
TZNAME:CEST
DTSTART:19700329T020000
RRULE:FREQ=YEARLY;BYMONTH=3;BYDAY=-1SU
END:DAYLIGHT
BEGIN:STANDARD
TZOFFSETFROM:+0200
TZOFFSETTO:+0100
TZNAME:CET
DTSTART:19701025T030000
RRULE:FREQ=YEARLY;BYMONTH=10;BYDAY=-1SU
END:STANDARD
END:VTIMEZONE
BEGIN:VEVENT
UID:2485226:Event:867684
DTSTAMP:20260422T112302Z
SUMMARY:Alma Jam
DESCRIPTION:Venez vivre et vibrer au sons des instruments du monde en 
 participant à un concert interactif, cocréatif, un voyage sonore imp
 rovisé dans la magie de l'instant présent et dans la reliance entre 
 tous les participants, lors de la prochaine ALMA JAM du 30/06/2012.\nC
 elle-ci sera sous la thématique des peuples racines et nous réserver
 a donc encore plus de surprises!...\n Pour découvrir le principe et l
 'esprit: http://alma-jam.com/  et pour s'inscrire: http://alma-jam.com
 /wp/?page_id=111  Alors à tout bientôt peut être\n\nPour plus d'inf
 ormation, aller sur https://epanews.fr/events/alma-jam
DTSTART;TZID=Europe/Paris:20120630T200000
DTEND;TZID=Europe/Paris:20120630T230000
CATEGORIES:75
LOCATION:aux Miroirs de l'âme
WEBSITE:http://www.lesmiroirsdelame.com/
URL:http://www.lesmiroirsdelame.com/
CONTACT:06 87 23 91 25
ORGANIZER;CN=Coriam:https://epanews.fr/profile/Coriam
ATTACH;FMTTYPE="image/jpeg":http://storage.ning.com/topology/rest/1.0/
 file/get/1662629044?profile=original
ATTENDEE;ROLE=REQ-PARTICIPANT;PARTSTAT=ACCEPTED;RSVP=TRUE;CN=Coriam:ht
 tps://epanews.fr/profile/Coriam
END:VEVENT
END:VCALENDAR
