BEGIN:VCALENDAR
PRODID:NingEventWidget-v1
VERSION:2.0
METHOD:PUBLISH
BEGIN:VTIMEZONE
TZID:Europe/Paris
X-LIC-LOCATION:Europe/Paris
BEGIN:DAYLIGHT
TZOFFSETFROM:+0100
TZOFFSETTO:+0200
TZNAME:CEST
DTSTART:19700329T020000
RRULE:FREQ=YEARLY;BYMONTH=3;BYDAY=-1SU
END:DAYLIGHT
BEGIN:STANDARD
TZOFFSETFROM:+0200
TZOFFSETTO:+0100
TZNAME:CET
DTSTART:19701025T030000
RRULE:FREQ=YEARLY;BYMONTH=10;BYDAY=-1SU
END:STANDARD
END:VTIMEZONE
BEGIN:VEVENT
UID:2485226:Event:1885866
DTSTAMP:20260421T162534Z
SUMMARY:Alma Jam de Printemps
DESCRIPTION:Venez cÃ©lÃ©brer le retour du printemps, colorÃ©, lumineux
  et chaleureux par la musique et la cocrÃ©ation, en mouvement et en ha
 rmonie, dans la joie de crÃ©er ensemble.\n FÃªte et Conscience se rÃ©u
 nissent Ã  nouveau pour le plus grand bien de notre Ã‚me et de notre Ã
 ©volution.\n - Le 26 Avril , venez participer avec nous Ã  l'Alma JamÂ
   NÂ°25.\nPour rappel, les Alma-Jam sont des soirÃ©es de concert inter
 actif, cocrÃ©atif. Je vous laisse dÃ©couvrir le concept ici: http://al
 ma-jam.com/wp/?page_id=4  N'hÃ©sitez pas Ã  venir avec des amis.  Pour
  vous inscrire c'est ici: http://alma-jam.com/wp/?page_id=111  A trÃ¨s
  vite.\n\nPour plus d'information, aller sur https://epanews.fr/events
 /alma-jam-de-printemps
DTSTART;TZID=Europe/Paris:20140426T200000
DTEND;TZID=Europe/Paris:20140426T233000
CATEGORIES:75
LOCATION:Les Temps du Corps
WEBSITE:http://www.tempsducorps.org/
URL:http://www.tempsducorps.org/
CONTACT:06 80 60 80 60
ORGANIZER;CN=Etienne:https://epanews.fr/profile/Avronsart174
ATTACH;FMTTYPE="image/jpeg":http://storage.ning.com/topology/rest/1.0/
 file/get/1663121420?profile=original
ATTENDEE;ROLE=REQ-PARTICIPANT;PARTSTAT=ACCEPTED;RSVP=TRUE;CN=Etienne:h
 ttps://epanews.fr/profile/Avronsart174
END:VEVENT
END:VCALENDAR
