BEGIN:VCALENDAR
PRODID:NingEventWidget-v1
VERSION:2.0
METHOD:PUBLISH
BEGIN:VTIMEZONE
TZID:Europe/Paris
X-LIC-LOCATION:Europe/Paris
BEGIN:DAYLIGHT
TZOFFSETFROM:+0100
TZOFFSETTO:+0200
TZNAME:CEST
DTSTART:19700329T020000
RRULE:FREQ=YEARLY;BYMONTH=3;BYDAY=-1SU
END:DAYLIGHT
BEGIN:STANDARD
TZOFFSETFROM:+0200
TZOFFSETTO:+0100
TZNAME:CET
DTSTART:19701025T030000
RRULE:FREQ=YEARLY;BYMONTH=10;BYDAY=-1SU
END:STANDARD
END:VTIMEZONE
BEGIN:VEVENT
UID:2485226:Event:855585
DTSTAMP:20260422T153900Z
SUMMARY:Allier Plaisir du Vin et Bien-Être
DESCRIPTION:Les Vignerons des Pierres Dorées ouvrent leurs portes au 
 Bien-Être...Venez vivre une expérience alliant le plaisir de la dég
 ustation de bons vins,et la détente apportée par un massage-bien-êt
 re traditionnel japonais.\n\nPour plus d'information, aller sur https:
 //epanews.fr/events/allier-plaisir-du-vin-et-bien-tre
DTSTART;TZID=Europe/Paris:20120623T143000
DTEND;TZID=Europe/Paris:20120624T190000
CATEGORIES:69
LOCATION:Au Terroir des Pierres Dorées
WEBSITE:http://www.asana-bien-etre.fr/agenda/allier-plaisir-du-vin-et-
 bien-etre.html
URL:http://www.asana-bien-etre.fr/agenda/allier-plaisir-du-vin-et-bien
 -etre.html
CONTACT:06 31 68 46 36
ORGANIZER;CN="Catherine Remy":https://epanews.fr/profile/CatherineRemy
ATTACH;FMTTYPE="image/jpeg":http://storage.ning.com/topology/rest/1.0/
 file/get/1662621210?profile=original
ATTENDEE;ROLE=REQ-PARTICIPANT;PARTSTAT=ACCEPTED;RSVP=TRUE;CN="Catherin
 e Remy":https://epanews.fr/profile/CatherineRemy
END:VEVENT
END:VCALENDAR
