BEGIN:VCALENDAR
PRODID:NingEventWidget-v1
VERSION:2.0
METHOD:PUBLISH
BEGIN:VTIMEZONE
TZID:Europe/Paris
X-LIC-LOCATION:Europe/Paris
BEGIN:DAYLIGHT
TZOFFSETFROM:+0100
TZOFFSETTO:+0200
TZNAME:CEST
DTSTART:19700329T020000
RRULE:FREQ=YEARLY;BYMONTH=3;BYDAY=-1SU
END:DAYLIGHT
BEGIN:STANDARD
TZOFFSETFROM:+0200
TZOFFSETTO:+0100
TZNAME:CET
DTSTART:19701025T030000
RRULE:FREQ=YEARLY;BYMONTH=10;BYDAY=-1SU
END:STANDARD
END:VTIMEZONE
BEGIN:VEVENT
UID:2485226:Event:3014297
DTSTAMP:20260420T085800Z
SUMMARY:Aline Peugeot, Médium, Découvrir et développer ses faculté
 s intuitives et médiumniques
DESCRIPTION:Aline PEUGEOT – Auteure du livre du \"chaos à l'éveil 
 spirituel\" et conférencière animera un stage de 2 jours les 21 et 2
 2 septembre 2019 de 9h à 17h en Suisse : stage \"Découvrir et dével
 opper ses facultés intuitives et médiumnique :Lors de cet atelier, A
 line, surnommée la \"AMMA Française\" vous guidera lors de :- médit
 ations et visualisations guidées afin d'accéder à un état de consc
 ience modifié permettant un contact avec guides et défunts - exercic
 es de télépathie intuitive - attraction magnétique - perception des
  mondes subtils - visualisation de l'aura Pour des raisons de confiden
 tialité le programme complet ne peut être dévoiléTarif : 300.-- fr
 ancs suisse à régler lors de l'inscription au stageMidi : repas cana
 dien pris tous ensemble Pour les méditations et exercices de visualis
 ation, pensez à apporter couverture, tapis yoga, coussin pour votre c
 onfort et de quoi écrire. Si vous travaillez déjà avec un pendule, 
 oracle ou autre, vous pouvez également le prendre.Renseignements et i
 nscriptions : Nadège Burgy - + 41 79 391 18 75 - burgy@zenattitude.ch
 Thérapeute complémentaire avec certificat de branche OrTra TC - Mét
 hode kinésiologie\n\nPour plus d'information, aller sur https://epane
 ws.fr/events/aline-peugeot-m-dium-d-couvrir-et-d-velopper-ses-facult-s
DTSTART;TZID=Europe/Paris:20190921T090000
DTEND;TZID=Europe/Paris:20190922T170000
CATEGORIES:suisse
LOCATION:Salle communale
WEBSITE:https://www.google.com/maps/place/Chemin+du+Coll&egrave;ge+1,+
 1608+Chesalles-sur-Oron/@46.5762146,6.8499269,17z/data=!3m1!4b1!4m5!3m
 4!1s0x478e81ae878f193d:0xd8e0aff44a4a3195!8m2!3d46.5762109!4d6.8521156
URL:https://www.google.com/maps/place/Chemin+du+Coll&egrave;ge+1,+1608
 +Chesalles-sur-Oron/@46.5762146,6.8499269,17z/data=!3m1!4b1!4m5!3m4!1s
 0x478e81ae878f193d:0xd8e0aff44a4a3195!8m2!3d46.5762109!4d6.8521156
CONTACT:+41 79 391 18 75
ORGANIZER;CN="Nadège Burgy":https://epanews.fr/profile/NadegeBurgy
ATTACH;FMTTYPE="image/jpeg":https://storage.ning.com/topology/rest/1.0
 /file/get/1193248827?profile=original
ATTENDEE;ROLE=REQ-PARTICIPANT;PARTSTAT=ACCEPTED;RSVP=TRUE;CN="Nadège 
 Burgy":https://epanews.fr/profile/NadegeBurgy
END:VEVENT
END:VCALENDAR
