BEGIN:VCALENDAR
PRODID:NingEventWidget-v1
VERSION:2.0
METHOD:PUBLISH
BEGIN:VTIMEZONE
TZID:Europe/Paris
X-LIC-LOCATION:Europe/Paris
BEGIN:DAYLIGHT
TZOFFSETFROM:+0100
TZOFFSETTO:+0200
TZNAME:CEST
DTSTART:19700329T020000
RRULE:FREQ=YEARLY;BYMONTH=3;BYDAY=-1SU
END:DAYLIGHT
BEGIN:STANDARD
TZOFFSETFROM:+0200
TZOFFSETTO:+0100
TZNAME:CET
DTSTART:19701025T030000
RRULE:FREQ=YEARLY;BYMONTH=10;BYDAY=-1SU
END:STANDARD
END:VTIMEZONE
BEGIN:VEVENT
UID:2485226:Event:1877148
DTSTAMP:20260422T053012Z
SUMMARY:Activité Sophrologie en plein air dans la forêt de Bouconne
DESCRIPTION:Adeline et Patrick, Sophrologues, vous proposent une aprè
 s-midi sortie \"Nature et Conscience\" en forêt de Bouconne près de 
 Toulouse.\nApaiser et pacifier le mental afin de lâcher prise, avec l
 a complicité de la forêt.\nNous vous accompagnerons avec la pratique
  de la relaxation dynamique, la marche, la respiration , la visualisat
 ion, favorisant ainsi l'ouverture de la conscience et la perception de
  nouveaux espaces en vous-mêmes.\nPrévoir bonnes chaussures, eau, é
 ventuellement vêtement de pluie. \nUne petite pause conviviale sera 
 prévue à mi-chemin. Durée environ 3 h30-4 h\nParcours facile, tout 
 public à partir de 12 ans.\nPetit groupe pour meilleur fonctionnement
 , donc nombre de places limitées.\nParticipation 20 €, inscriptions
  par téléphone ou mails\n\nPour plus d'information, aller sur https:
 //epanews.fr/events/activit-sophrologie-en-plein-air-dans-la-for-t-de-
 bouconne
DTSTART;TZID=Europe/Paris:20140517T143000
DTEND;TZID=Europe/Paris:20140517T183000
CATEGORIES:31, 09, 32, 82, 81
LOCATION:départ RDV sur le Parking derrière l'église de Léguevin
WEBSITE:
URL:
CONTACT:0695045717 ou 0647470864
ORGANIZER:Adeline et Patrick
ATTACH;FMTTYPE="image/jpeg":http://storage.ning.com/topology/rest/1.0/
 file/get/1663113458?profile=original
ATTENDEE;ROLE=REQ-PARTICIPANT;PARTSTAT=ACCEPTED;RSVP=TRUE;CN=Adeline:h
 ttps://epanews.fr/profile/Adeline431
END:VEVENT
END:VCALENDAR
