BEGIN:VCALENDAR
PRODID:NingEventWidget-v1
VERSION:2.0
METHOD:PUBLISH
BEGIN:VTIMEZONE
TZID:Europe/Paris
X-LIC-LOCATION:Europe/Paris
BEGIN:DAYLIGHT
TZOFFSETFROM:+0100
TZOFFSETTO:+0200
TZNAME:CEST
DTSTART:19700329T020000
RRULE:FREQ=YEARLY;BYMONTH=3;BYDAY=-1SU
END:DAYLIGHT
BEGIN:STANDARD
TZOFFSETFROM:+0200
TZOFFSETTO:+0100
TZNAME:CET
DTSTART:19701025T030000
RRULE:FREQ=YEARLY;BYMONTH=10;BYDAY=-1SU
END:STANDARD
END:VTIMEZONE
BEGIN:VEVENT
UID:2485226:Event:974106
DTSTAMP:20260419T211332Z
SUMMARY:Activez l'Abondance et le Succès
DESCRIPTION:Transformez vos croyances limitantes sur la Réussite et l
 ’Abondance :\n*  Découvrez l’aspiration profonde que vous voulez
  avoir vécu au soir de votre vie,\n*  Débloquez l’énergie caché
 e derrière vos émotions.\n* Libérez votre relation à l’argent, 
  * Réalisez enfin vos projets... Tous vos projets !\nCe séminaire vo
 us invite à l’exploration de vos envies et projets, vers vos répon
 ses et les moyens de leur mise en œuvre concrète, dans la durée.\nE
 ntrez enfin dans le plaisir de l’action et de la réussite.\nEt puis
  surtout : beaucoup de joie, d'amour, et d'élan !\n\nPour plus d'info
 rmation, aller sur https://epanews.fr/events/activez-l-abondance-et-le
 -succ-s-2
DTSTART;TZID=Europe/Paris:20121116T000000
DTEND;TZID=Europe/Paris:20121118T235900
CATEGORIES:44
LOCATION:à Nantes
WEBSITE:http://www.abondances.info
URL:http://www.abondances.info
CONTACT:06 18 42 14 15
ORGANIZER;CN="Jean Christophe Benas":https://epanews.fr/profile/Flyone
 arth
ATTACH;FMTTYPE="image/jpeg":
ATTENDEE;ROLE=REQ-PARTICIPANT;PARTSTAT=ACCEPTED;RSVP=TRUE;CN="Jean Chr
 istophe Benas":https://epanews.fr/profile/Flyonearth
END:VEVENT
END:VCALENDAR
