BEGIN:VCALENDAR
PRODID:NingEventWidget-v1
VERSION:2.0
METHOD:PUBLISH
BEGIN:VTIMEZONE
TZID:Europe/Paris
X-LIC-LOCATION:Europe/Paris
BEGIN:DAYLIGHT
TZOFFSETFROM:+0100
TZOFFSETTO:+0200
TZNAME:CEST
DTSTART:19700329T020000
RRULE:FREQ=YEARLY;BYMONTH=3;BYDAY=-1SU
END:DAYLIGHT
BEGIN:STANDARD
TZOFFSETFROM:+0200
TZOFFSETTO:+0100
TZNAME:CET
DTSTART:19701025T030000
RRULE:FREQ=YEARLY;BYMONTH=10;BYDAY=-1SU
END:STANDARD
END:VTIMEZONE
BEGIN:VEVENT
UID:2485226:Event:1818596
DTSTAMP:20260422T124135Z
SUMMARY:activation de l energie creatrice Ã  Bugarach
DESCRIPTION:soins confÃ©rencesÂ  ateliers chamaniques du 2avril au 12 
 Avril 2014 Ã  BugarachCarlos Kirael lors de son passage dans l'Aude Ã 
  Bugarach ou ailleurs,  vient nous y aider, et nous fÃ©dÃ©rer pour l'Ã
 ©dification de la nouvelle terre.  (voir Site Carloskiraelbugarach.com
 )\n\nPour plus d'information, aller sur https://epanews.fr/events/acti
 vation-de-l-energie-creatrice-bugarach
DTSTART;TZID=Europe/Paris:20140402T180000
DTEND;TZID=Europe/Paris:20140411T190000
CATEGORIES:11
LOCATION:bugarach
WEBSITE:http://Bugarach
URL:http://Bugarach
CONTACT:
ORGANIZER:Eva sorel
ATTACH;FMTTYPE="image/jpeg":
ATTENDEE;ROLE=REQ-PARTICIPANT;PARTSTAT=ACCEPTED;RSVP=TRUE;CN="olga mat
 aro":https://epanews.fr/profile/olgatuffin
END:VEVENT
END:VCALENDAR
