BEGIN:VCALENDAR
PRODID:NingEventWidget-v1
VERSION:2.0
METHOD:PUBLISH
BEGIN:VTIMEZONE
TZID:Europe/Paris
X-LIC-LOCATION:Europe/Paris
BEGIN:DAYLIGHT
TZOFFSETFROM:+0100
TZOFFSETTO:+0200
TZNAME:CEST
DTSTART:19700329T020000
RRULE:FREQ=YEARLY;BYMONTH=3;BYDAY=-1SU
END:DAYLIGHT
BEGIN:STANDARD
TZOFFSETFROM:+0200
TZOFFSETTO:+0100
TZNAME:CET
DTSTART:19701025T030000
RRULE:FREQ=YEARLY;BYMONTH=10;BYDAY=-1SU
END:STANDARD
END:VTIMEZONE
BEGIN:VEVENT
UID:2485226:Event:1023850
DTSTAMP:20260424T003019Z
SUMMARY:Accompagner la maladie avec les fleurs de Bach
DESCRIPTION:Vitalibio vous propose des ateliers gratuits en atelier po
 ur mieux comprendre la santé et la beauté bio un samedi sur deux dan
 s son institut situé à Aix en Provence.\nLe samedi 24 novembre, Aude
  Le Bas, naturopathe chez Vitalibio vous propose un atelier \"Accompag
 ner la maladie avec les Fleurs de Bach\" de 10h à 11h30.\nCet atelier
  est gratuit et sur inscription préalable au 04 42 50 92 06\n\n\nPour
  plus d'information, aller sur https://epanews.fr/events/accompagner-l
 a-maladie-avec-les-fleurs-de-bach
DTSTART;TZID=Europe/Paris:20121124T220000
DTEND;TZID=Europe/Paris:20121124T233000
CATEGORIES:13
LOCATION:Aix-en-Provence
WEBSITE:http://www.vitalibio.com
URL:http://www.vitalibio.com
CONTACT:04 42 50 92 06
ORGANIZER:Vitalibio
ATTACH;FMTTYPE="image/jpeg":
ATTENDEE;ROLE=REQ-PARTICIPANT;PARTSTAT=ACCEPTED;RSVP=TRUE;CN=alexmaste
 r:https://epanews.fr/profile/alexmaster
END:VEVENT
END:VCALENDAR
