BEGIN:VCALENDAR
PRODID:NingEventWidget-v1
VERSION:2.0
METHOD:PUBLISH
BEGIN:VTIMEZONE
TZID:Europe/Paris
X-LIC-LOCATION:Europe/Paris
BEGIN:DAYLIGHT
TZOFFSETFROM:+0100
TZOFFSETTO:+0200
TZNAME:CEST
DTSTART:19700329T020000
RRULE:FREQ=YEARLY;BYMONTH=3;BYDAY=-1SU
END:DAYLIGHT
BEGIN:STANDARD
TZOFFSETFROM:+0200
TZOFFSETTO:+0100
TZNAME:CET
DTSTART:19701025T030000
RRULE:FREQ=YEARLY;BYMONTH=10;BYDAY=-1SU
END:STANDARD
END:VTIMEZONE
BEGIN:VEVENT
UID:2485226:Event:2112730
DTSTAMP:20260423T225653Z
SUMMARY:JournÃ©e de formation Bars Access Consciousness
DESCRIPTION:\"Tout de la vie vient Ã  moi avec facilitÃ©, joie et gloi
 re\"!\nC'est le mantra Bars d'Access ConsciousnessÂ©, AccÃ©der Ã  la c
 onscience. Cette mÃ©thode, crÃ©Ã©e par Gary Douglas,nous propose de dÃ
 ©couvrir nos points de vue qui nous limitent dans notre vie. Access Ba
 rs est une technique d'activation de 32 points au niveau du crÃ¢ne qui
  vont nous permettre de libÃ©rer nos croyances, conditionnements, pens
 Ã©es que l'on garde en mÃ©moire.\nNous libÃ©rer de certaines mÃ©moires
  cellulaires vont nous permettre de lÃ¢cher certains points de vue, ju
 gements.\nEtes-vous prÃªts Ã  recevoir et Ã  Ãªtre dans la joie comme 
 jamais vous ne l'avez Ã©tÃ© jusqu'Ã  prÃ©sent?\nAvez-vous envie de cha
 nger votre regard sur le monde et vous ouvrir Ã  d'infinies possibilit
 Ã©s?\nLa journÃ©e de formation se dÃ©roule en plusieurs parties : -PrÃ
 ©sentation de la vidÃ©o de Gary Douglas et Dr Dain Heer, -Une grande p
 artie de pratique en binÃ´mes pour apprendre Ã  donner et Ã  recevoir 
 une sÃ©ance.Â Â Â Â Â Â Â Â Â Â Â Â Â Â Â Â Â Â Â Â Â Â  Â  -Apprendre
  Ã  Ãªtre dans la question pour obtenir une prise de conscience et ain
 si, aller vers de multiples choix.\nVous recevrez le manuel de cette f
 ormation.\nA l'issue de cette journÃ©e, vous pourrez pratiquer des sÃ©
 ances.\nTarif journÃ©e 160â‚¬, 80â‚¬ si rÃ©vision.\nSi vous dÃ©sirez r
 ecevoir ou offrir une sÃ©ance , n'hÃ©sitez pas Ã  me contacter!\nFabie
 nne Martin, 0649004812\nhttp://www.accessconsciousness.com/facs_list.a
 sp\n\nhttps://www.youtube.com/watch?v=Cc4Kx6bJSvM\n\nPour plus d'infor
 mation, aller sur https://epanews.fr/events/access-consciousness-bars-
 2
DTSTART;TZID=Europe/Paris:20141120T000000
DTEND;TZID=Europe/Paris:20141120T235900
CATEGORIES:91
LOCATION:Milly la forÃªt, IDF
WEBSITE:http://quantharmonie.overblog.com
URL:http://quantharmonie.overblog.com
CONTACT:0649004812
ORGANIZER;CN="Fabienne Martin":https://epanews.fr/profile/FabienneMart
 in
ATTACH;FMTTYPE="image/jpeg":http://storage.ning.com/topology/rest/1.0/
 file/get/1663216543?profile=original
ATTENDEE;ROLE=REQ-PARTICIPANT;PARTSTAT=ACCEPTED;RSVP=TRUE;CN="Fabienne
  Martin":https://epanews.fr/profile/FabienneMartin
END:VEVENT
END:VCALENDAR
