BEGIN:VCALENDAR
PRODID:NingEventWidget-v1
VERSION:2.0
METHOD:PUBLISH
BEGIN:VTIMEZONE
TZID:Europe/Paris
X-LIC-LOCATION:Europe/Paris
BEGIN:DAYLIGHT
TZOFFSETFROM:+0100
TZOFFSETTO:+0200
TZNAME:CEST
DTSTART:19700329T020000
RRULE:FREQ=YEARLY;BYMONTH=3;BYDAY=-1SU
END:DAYLIGHT
BEGIN:STANDARD
TZOFFSETFROM:+0200
TZOFFSETTO:+0100
TZNAME:CET
DTSTART:19701025T030000
RRULE:FREQ=YEARLY;BYMONTH=10;BYDAY=-1SU
END:STANDARD
END:VTIMEZONE
BEGIN:VEVENT
UID:2485226:Event:2467495
DTSTAMP:20260424T235747Z
SUMMARY:Accès consciousness Bars
DESCRIPTION:En stimulant 32 points sur le crane vous allumez une barre
  électro-magnétique où sont situées vos peurs, émotions, croyance
 s, mémoires, programmations et ça permet de les faire lâcher en dou
 ceur et de voir ainsi votre vie se modifier.\nCette méthode amène u
 n apaisement et une sérénité et  permet de laisser de la place pou
 r accueillir des possibilités différentes.\n\nPour plus d'informatio
 n, aller sur https://epanews.fr/events/acc-s-consciousness-bars
DTSTART;TZID=Europe/Paris:20151122T000000
DTEND;TZID=Europe/Paris:20151122T235900
CATEGORIES:30, 34
LOCATION:Nîmes/Montpellier
WEBSITE:
URL:
CONTACT:06.61.71.13.47
ORGANIZER;CN=Essentielle:https://epanews.fr/profile/Renard644
ATTACH;FMTTYPE="image/jpeg":http://storage.ning.com/topology/rest/1.0/
 file/get/1663476572?profile=original
ATTENDEE;ROLE=REQ-PARTICIPANT;PARTSTAT=ACCEPTED;RSVP=TRUE;CN=Essentiel
 le:https://epanews.fr/profile/Renard644
END:VEVENT
END:VCALENDAR
