BEGIN:VCALENDAR
PRODID:NingEventWidget-v1
VERSION:2.0
METHOD:PUBLISH
BEGIN:VTIMEZONE
TZID:Europe/Paris
X-LIC-LOCATION:Europe/Paris
BEGIN:DAYLIGHT
TZOFFSETFROM:+0100
TZOFFSETTO:+0200
TZNAME:CEST
DTSTART:19700329T020000
RRULE:FREQ=YEARLY;BYMONTH=3;BYDAY=-1SU
END:DAYLIGHT
BEGIN:STANDARD
TZOFFSETFROM:+0200
TZOFFSETTO:+0100
TZNAME:CET
DTSTART:19701025T030000
RRULE:FREQ=YEARLY;BYMONTH=10;BYDAY=-1SU
END:STANDARD
END:VTIMEZONE
BEGIN:VEVENT
UID:2485226:Event:1011645
DTSTAMP:20260421T143111Z
SUMMARY:Retraite sur \"Le pouvoir du Moment Présent\" selon les écri
 ts d’Eckhart Tolle
DESCRIPTION:Les enseignements d'Eckhart Tolle ont transformé la vie d
 e millions de personnes à travers le monde. Si son message est clair 
 et accessible, il est parfois difficile de le mettre en pratique. Rest
 er connecté au moment présent, garder sa conscience éveillée à ch
 aque instant n'est pas une chose aisée.\nLe travail proposé lors de 
 ce stage résidentiel est basé sur les écrits d'Eckhart Tolle.  Les
  exercices pratiques sont fondés sur de courts moments de méditation
  pour développer l'éveil de la conscience de soi, le sens de l'écou
 te et l'attention perceptive corporelle.\nPar la pratique de ces exerc
 ices, la finalité est de se libérer de notre identification à notre
  ego, conditionné par le mental, et de se relier à notre vraie natur
 e : notre Etre.\nVous apprendrez:\nA reprendre contact avec votre cor
 ps physique et votre corps énergétique,\n•  A reconnaître les é
 motions apparaissant en vous afin de n´être plus l´acteur    mai
 s plutôt l´observateur de vos pensées\n•  A ne plus vous identif
 ier avec certaines pensées compulsives,\n•  A redevenir maître de
  votre état intérieur,\n•  A découvrir les messages que la vie v
 ous offre,\n•  A vivre l’instant présent : là où se trouve la 
 Vie !\n\n\n\nRéservation obligatoire sur association.nouvelleterre@gm
 ail.com\nTarif pour le week-end 150€ : caution de 100€ d´acompte 
 pour la réservation de votre place. chèque à l´ordre de Nouvelle T
 erre à l´adresse suivante : Fédération Nouvelle 37 rue Guillaume 2
 6100 Romans sur Isère\n\nPour plus d'information, aller sur https://e
 panews.fr/events/acc-der-au-pouvoir-du-moment-pr-sent-selon-les-crits-
 d-eckhart-2
DTSTART;TZID=Europe/Paris:20121207T000000
DTEND;TZID=Europe/Paris:20121209T235900
CATEGORIES:26100
LOCATION:Proche de Lyon
WEBSITE:http://www.lafleuretlaube.com
URL:http://www.lafleuretlaube.com
CONTACT:06 68 30 56 70
ORGANIZER:assonouvelleterre.blogspot.com
ATTACH;FMTTYPE="image/jpeg":http://storage.ning.com/topology/rest/1.0/
 file/get/1662693520?profile=original
ATTENDEE;ROLE=REQ-PARTICIPANT;PARTSTAT=ACCEPTED;RSVP=TRUE;CN="associat
 ion.nouvelleterre":https://epanews.fr/profile/associationnouvelleterre
END:VEVENT
END:VCALENDAR
