BEGIN:VCALENDAR
PRODID:NingEventWidget-v1
VERSION:2.0
METHOD:PUBLISH
BEGIN:VTIMEZONE
TZID:Europe/Paris
X-LIC-LOCATION:Europe/Paris
BEGIN:DAYLIGHT
TZOFFSETFROM:+0100
TZOFFSETTO:+0200
TZNAME:CEST
DTSTART:19700329T020000
RRULE:FREQ=YEARLY;BYMONTH=3;BYDAY=-1SU
END:DAYLIGHT
BEGIN:STANDARD
TZOFFSETFROM:+0200
TZOFFSETTO:+0100
TZNAME:CET
DTSTART:19701025T030000
RRULE:FREQ=YEARLY;BYMONTH=10;BYDAY=-1SU
END:STANDARD
END:VTIMEZONE
BEGIN:VEVENT
UID:2485226:Event:2937564
DTSTAMP:20260423T040818Z
SUMMARY:A la rencontre de l'Ange Gardien
DESCRIPTION:Notre ange gardien est un guide exceptionnel qui nous conn
 ait intimement dans notre plus grande profondeur. Prenez contact avec 
 lui pour mieux vous connaitre et savoir quel chemin vous attend.\nAtel
 ier limité en nombre de personnes. Merci de réserver\n\nPour plus d'
 information, aller sur https://epanews.fr/events/a-la-rencontre-de-l-a
 nge-gardien
DTSTART;TZID=Europe/Paris:20180310T150000
DTEND;TZID=Europe/Paris:20180310T170000
CATEGORIES:29
LOCATION:Edern
WEBSITE:http://emren29.wixsite.com/emren
URL:http://emren29.wixsite.com/emren
CONTACT:0635978804
ORGANIZER;CN=Dine29emren:https://epanews.fr/profile/Dine29emren
ATTACH;FMTTYPE="image/jpeg":http://storage.ning.com/topology/rest/1.0/
 file/get/1663726702?profile=original
ATTENDEE;ROLE=REQ-PARTICIPANT;PARTSTAT=ACCEPTED;RSVP=TRUE;CN=Dine29emr
 en:https://epanews.fr/profile/Dine29emren
END:VEVENT
END:VCALENDAR
