BEGIN:VCALENDAR
PRODID:NingEventWidget-v1
VERSION:2.0
METHOD:PUBLISH
BEGIN:VTIMEZONE
TZID:Europe/Paris
X-LIC-LOCATION:Europe/Paris
BEGIN:DAYLIGHT
TZOFFSETFROM:+0100
TZOFFSETTO:+0200
TZNAME:CEST
DTSTART:19700329T020000
RRULE:FREQ=YEARLY;BYMONTH=3;BYDAY=-1SU
END:DAYLIGHT
BEGIN:STANDARD
TZOFFSETFROM:+0200
TZOFFSETTO:+0100
TZNAME:CET
DTSTART:19701025T030000
RRULE:FREQ=YEARLY;BYMONTH=10;BYDAY=-1SU
END:STANDARD
END:VTIMEZONE
BEGIN:VEVENT
UID:2485226:Event:486411
DTSTAMP:20260421T204724Z
SUMMARY:A la dÃ©couverte de notre nature vÃ©ritable... soutenir notre 
 intention/attention par le chant des mots-Ã¢mes
DESCRIPTION:D'une faÃ§on ou d'une autre, nous souffrons !Nous avons sa
 ns doute dÃ©jÃ  lu et entendu 10 000 fois que la racine de cette souff
 rance rÃ©side dans l'identification Ã  ce \"je\" (corps-mental) que no
 us croyons Ãªtre,mais, dans le meilleur des cas, nous expÃ©rimentons e
 ncore des moments d'identification oÃ¹ nous sommes \"happÃ©s\" par ce 
 conditionnement, et dans le pire des cas, nous n'avons aucune idÃ©e de
  comment accÃ©der Ã  la rÃ©alitÃ© de ce que nous sommes vraiment, et Ã
   la paix intÃ©rieure...\nMon expÃ©rience est que le retour Ã  cette p
 aix intÃ©rieure passe par deux Ã©tapes : 1) dÃ©placer notre attention 
 de ce que nous percevons, vers ce qui perÃ§oit 2) rÃ©aliser que ce que
  nous sommes rÃ©ellement EST cela mÃªme qui perÃ§oit L'essence de l'en
 seignement spirituel donnÃ© par tous les grands Ã©veillÃ©s depuis des 
 millÃ©naires a toujours Ã©tÃ© une invitation Ã  rÃ©aliser ces deux Ã©t
 apes, le fameux \"Qui suis-je ?\" de Ramana Maharshi en Ã©tant l'un de
 s \"pointeurs\" les plus connus et transmis. La rÃ©alisation de ces de
 ux Ã©tapes, en soi, se suffit Ã  elle-mÃªme, et la rÃ©alisation de not
 re nature vÃ©ritable peut Ãªtre vÃ©cue sans recourir Ã  aucune pratiqu
 e, quelle qu'elle soit... En mÃªme temps, mon cheminement personnel en
  cette voie du retour Ã  Soi m'a montrÃ© que notre identification habi
 tuelle au corps, Ã©motions, pensÃ©es est si ancienne qu'une vÃ©ritable
  \"mÃ©moire de forme\" de ce conditionnement semble inscrit en nous da
 ns ce que les sciences cognitives modernes nomment les \"autoroutes ne
 uronales\". Il peut alors Ãªtre prÃ©cieux de bÃ©nÃ©ficier d'un soutien
  pour attÃ©nuer la force d'inertie qu'elles gÃ©nÃ¨rent (et qui nous po
 usse Ã  revenir immanquablement dans notre identification habituelle, 
 par habitude) et renforcer la mise en place du chemin intÃ©rieur par l
 equel la Conscience peut se goÃ»ter... La pratique de lâ€™Onsei-Do (la
  Voie du Son, selon lâ€™antique principe de kototama, le chant des mot
 s-Ã¢mes de par son action directe sur le cerveau, \"dÃ©tend\" la contr
 acture habituelle de la conscience identifiÃ©e Ã  ses manifestations, 
 permettant de goÃ»ter l'espace de conscience que nous sommes... \nAu c
 ours de cette confÃ©rence-atelier, Isabelle Padovani partagera comment
  lâ€™Onsei-Do peut Ãªtre concrÃ¨tement un soutien prÃ©cieux Ã  l'impul
 sion spirituelle de la ConscienceÂ  souhaitant se goÃ»ter Ã  nouveau e
 ntiÃ¨rement dans la forme corps/mental dans laquelle elle a jouÃ© Ã  s
 'oublier...\nElle transmettra au cours de cette confÃ©rence-atelier un
 e pratique de kototama favorisant le retournement perceptif vers notre
  nature vÃ©ritable...\nVoir descriptif en ligne et modalitÃ©s pratique
 s : cliquer ICI\nFrais de participation : 10 â‚¬Pour en savoir plus su
 r l'Onsei-Do : www.onsei-do.com\n\nPour plus d'information, aller sur 
 https://epanews.fr/events/a-la-d-couverte-de-notre-nature-v-ritable-so
 utenir-notre
DTSTART;TZID=Europe/Paris:20110923T200000
DTEND;TZID=Europe/Paris:20110923T220000
CATEGORIES:75
LOCATION:Paris
WEBSITE:http://www.luniversdesther.com/
URL:http://www.luniversdesther.com/
CONTACT:0686595716
ORGANIZER;CN="Isabelle Padovani":https://epanews.fr/profile/IsabellePa
 dovani
ATTACH;FMTTYPE="image/jpeg":http://storage.ning.com/topology/rest/1.0/
 file/get/1662449645?profile=original
ATTENDEE;ROLE=REQ-PARTICIPANT;PARTSTAT=ACCEPTED;RSVP=TRUE;CN="Isabelle
  Padovani":https://epanews.fr/profile/IsabellePadovani
ATTENDEE;ROLE=REQ-PARTICIPANT;PARTSTAT=TENTATIVE;RSVP=TRUE;CN="perce n
 eige":https://epanews.fr/profile/perceneige
END:VEVENT
END:VCALENDAR
