BEGIN:VCALENDAR
PRODID:NingEventWidget-v1
VERSION:2.0
METHOD:PUBLISH
BEGIN:VTIMEZONE
TZID:Europe/Paris
X-LIC-LOCATION:Europe/Paris
BEGIN:DAYLIGHT
TZOFFSETFROM:+0100
TZOFFSETTO:+0200
TZNAME:CEST
DTSTART:19700329T020000
RRULE:FREQ=YEARLY;BYMONTH=3;BYDAY=-1SU
END:DAYLIGHT
BEGIN:STANDARD
TZOFFSETFROM:+0200
TZOFFSETTO:+0100
TZNAME:CET
DTSTART:19701025T030000
RRULE:FREQ=YEARLY;BYMONTH=10;BYDAY=-1SU
END:STANDARD
END:VTIMEZONE
BEGIN:VEVENT
UID:2485226:Event:1993862
DTSTAMP:20260424T090313Z
SUMMARY:a global meditation for peace
DESCRIPTION:Deepak Chopra tente demain de réunir un maximum de person
 nes pour une meditation globale de paix. Nous connaissons le pouvoir b
 ienfaisant de ce genre de méditation globale... Inscrivez-vous sur le
  site globalmeditation.chopra.com et vibrez pour la planete. Merci\n\n
 Pour plus d'information, aller sur https://epanews.fr/events/a-global-
 meditation-for-peace
DTSTART;TZID=Europe/Paris:20140808T180000
DTEND;TZID=Europe/Paris:20140808T190000
CATEGORIES:tous
LOCATION:toronto
WEBSITE:
URL:
CONTACT:
ORGANIZER:deepak chopra
ATTACH;FMTTYPE="image/jpeg":http://storage.ning.com/topology/rest/1.0/
 file/get/1663186666?profile=original
ATTENDEE;ROLE=REQ-PARTICIPANT;PARTSTAT=ACCEPTED;RSVP=TRUE;CN=lili9:htt
 ps://epanews.fr/profile/lili9
END:VEVENT
END:VCALENDAR
