BEGIN:VCALENDAR
PRODID:NingEventWidget-v1
VERSION:2.0
METHOD:PUBLISH
BEGIN:VTIMEZONE
TZID:Europe/Paris
X-LIC-LOCATION:Europe/Paris
BEGIN:DAYLIGHT
TZOFFSETFROM:+0100
TZOFFSETTO:+0200
TZNAME:CEST
DTSTART:19700329T020000
RRULE:FREQ=YEARLY;BYMONTH=3;BYDAY=-1SU
END:DAYLIGHT
BEGIN:STANDARD
TZOFFSETFROM:+0200
TZOFFSETTO:+0100
TZNAME:CET
DTSTART:19701025T030000
RRULE:FREQ=YEARLY;BYMONTH=10;BYDAY=-1SU
END:STANDARD
END:VTIMEZONE
BEGIN:VEVENT
UID:2485226:Event:2285495
DTSTAMP:20260423T143010Z
SUMMARY:festival du chamanisme - du jeudi 23 au dimanche 26 avril 2015
DESCRIPTION:Organisé par le Cercle de Sagesse de l’Union des Tradit
 ions Ancestrales :\nRassemblement de 90 chamans et artistes des 5 con
 tinents.\nNombreuses activités.\n\nPour plus d'information, aller sur
  https://epanews.fr/events/8-me-festival-du-chamanisme-du-jeudi-23-au-
 dimanche-26-avril-2015
DTSTART;TZID=Europe/Paris:20150423T000000
DTEND;TZID=Europe/Paris:20150426T235900
CATEGORIES:24
LOCATION:Dordogne  dans le Périgord noir
WEBSITE:http://www.festival-chamanisme.com
URL:http://www.festival-chamanisme.com
CONTACT:06 81 90 45 15
ORGANIZER:Cercle de sagesse - Cf. site
ATTACH;FMTTYPE="image/jpeg":http://storage.ning.com/topology/rest/1.0/
 file/get/1663366875?profile=original
ATTENDEE;ROLE=REQ-PARTICIPANT;PARTSTAT=ACCEPTED;RSVP=TRUE;CN=Cdric:htt
 ps://epanews.fr/profile/Cdric
END:VEVENT
END:VCALENDAR
