BEGIN:VCALENDAR
PRODID:NingEventWidget-v1
VERSION:2.0
METHOD:PUBLISH
BEGIN:VTIMEZONE
TZID:Europe/Paris
X-LIC-LOCATION:Europe/Paris
BEGIN:DAYLIGHT
TZOFFSETFROM:+0100
TZOFFSETTO:+0200
TZNAME:CEST
DTSTART:19700329T020000
RRULE:FREQ=YEARLY;BYMONTH=3;BYDAY=-1SU
END:DAYLIGHT
BEGIN:STANDARD
TZOFFSETFROM:+0200
TZOFFSETTO:+0100
TZNAME:CET
DTSTART:19701025T030000
RRULE:FREQ=YEARLY;BYMONTH=10;BYDAY=-1SU
END:STANDARD
END:VTIMEZONE
BEGIN:VEVENT
UID:2485226:Event:375702
DTSTAMP:20260425T042347Z
SUMMARY:7ème Espace éco-Vacances AROLIA
DESCRIPTION:En pleine nature  dans le nord Hérault, tu viens le temp
 s d'une semaine  planter ta tente sur notre écolieu, et tu partages 
 l'essentiel au coeur d'une belle convivialité créative. Nombreux ate
 liers proposés (yoga, massage, danse, tantra, constellations, clown, 
 cuisine sauvage, etc.), randos, baignades, soirée cabaret. Le tout es
 t autogéré, cuisine collective bio au bord de l'eau. C'est 11O€ la
  semaine, gratuit les enfants. Pour toutes infos et inscriptions : ht
 tp://arolia.free.fr\n\nPour plus d'information, aller sur https://epan
 ews.fr/events/7eme-espace-ecovacances-arolia-1
DTSTART;TZID=Europe/Paris:20110731T180000
DTEND;TZID=Europe/Paris:20110806T190000
CATEGORIES:34
LOCATION:Lodève
WEBSITE:http://arolia.free.fr
URL:http://arolia.free.fr
CONTACT:06 24 98 61 50
ORGANIZER;CN=Philéo:https://epanews.fr/profile/Phileo
ATTACH;FMTTYPE="image/jpeg":http://storage.ning.com/topology/rest/1.0/
 file/get/1662431670?profile=original
ATTENDEE;ROLE=REQ-PARTICIPANT;PARTSTAT=ACCEPTED;RSVP=TRUE;CN=Philéo:h
 ttps://epanews.fr/profile/Phileo
ATTENDEE;ROLE=REQ-PARTICIPANT;PARTSTAT=TENTATIVE;RSVP=TRUE;CN="chomat 
 christine":https://epanews.fr/profile/chomatchristine
END:VEVENT
END:VCALENDAR
