BEGIN:VCALENDAR
PRODID:NingEventWidget-v1
VERSION:2.0
METHOD:PUBLISH
BEGIN:VTIMEZONE
TZID:Europe/Paris
X-LIC-LOCATION:Europe/Paris
BEGIN:DAYLIGHT
TZOFFSETFROM:+0100
TZOFFSETTO:+0200
TZNAME:CEST
DTSTART:19700329T020000
RRULE:FREQ=YEARLY;BYMONTH=3;BYDAY=-1SU
END:DAYLIGHT
BEGIN:STANDARD
TZOFFSETFROM:+0200
TZOFFSETTO:+0100
TZNAME:CET
DTSTART:19701025T030000
RRULE:FREQ=YEARLY;BYMONTH=10;BYDAY=-1SU
END:STANDARD
END:VTIMEZONE
BEGIN:VEVENT
UID:2485226:Event:951104
DTSTAMP:20260423T133257Z
SUMMARY:6éme salon du Bien-être à Chessy 69, 27 et 28 octobre 2012
DESCRIPTION:http://chessybienetre.over-blog.com/\n\nA bientôt !\nOliv
 ier\n\nPour plus d'information, aller sur https://epanews.fr/events/6-
 me-salon-du-bien-tre-chessy-69-27-et-28-octobre-2012
DTSTART;TZID=Europe/Paris:20121027T210000
DTEND;TZID=Europe/Paris:20121028T190000
CATEGORIES:69
LOCATION:salle des fêtes
WEBSITE:http://chessybienetre.over-blog.com/
URL:http://chessybienetre.over-blog.com/
CONTACT:
ORGANIZER:Chessy bien-être
ATTACH;FMTTYPE="image/jpeg":http://storage.ning.com/topology/rest/1.0/
 file/get/1662666442?profile=original
ATTENDEE;ROLE=REQ-PARTICIPANT;PARTSTAT=ACCEPTED;RSVP=TRUE;CN="Epelly F
 rédérique":https://epanews.fr/profile/EpellyFrederique
ATTENDEE;ROLE=REQ-PARTICIPANT;PARTSTAT=ACCEPTED;RSVP=TRUE;CN="Esprit Z
 en":https://epanews.fr/profile/EspritZen
ATTENDEE;ROLE=REQ-PARTICIPANT;PARTSTAT=TENTATIVE;RSVP=TRUE;CN="marie j
 o desplace":https://epanews.fr/profile/mariejodesplace
END:VEVENT
END:VCALENDAR
