BEGIN:VCALENDAR
PRODID:NingEventWidget-v1
VERSION:2.0
METHOD:PUBLISH
BEGIN:VTIMEZONE
TZID:Europe/Paris
X-LIC-LOCATION:Europe/Paris
BEGIN:DAYLIGHT
TZOFFSETFROM:+0100
TZOFFSETTO:+0200
TZNAME:CEST
DTSTART:19700329T020000
RRULE:FREQ=YEARLY;BYMONTH=3;BYDAY=-1SU
END:DAYLIGHT
BEGIN:STANDARD
TZOFFSETFROM:+0200
TZOFFSETTO:+0100
TZNAME:CET
DTSTART:19701025T030000
RRULE:FREQ=YEARLY;BYMONTH=10;BYDAY=-1SU
END:STANDARD
END:VTIMEZONE
BEGIN:VEVENT
UID:2485226:Event:844561
DTSTAMP:20260422T080934Z
SUMMARY:5 jours d'été en aout à Damville
DESCRIPTION:5 jours de vacances\nMassage, Danse relationnelle et Berce
 ments en eau chaude\nprix: 395 euros tout compris, animation, héberge
 ment et nourriture\n\n\n\n\n\n\n \n\nPour plus d'information, aller s
 ur https://epanews.fr/events/5-jours-d-t-en-aout-damville
DTSTART;TZID=Europe/Paris:20120827T160000
DTEND;TZID=Europe/Paris:20120831T170000
CATEGORIES:27240
LOCATION:moulin des Cherottes
WEBSITE:http://moulindescherottes.pagesperso-orange.fr/vf/hebergement.
 htm
URL:http://moulindescherottes.pagesperso-orange.fr/vf/hebergement.htm
CONTACT:06 37 00 47 28
ORGANIZER;CN=Michelle:https://epanews.fr/profile/MichelleItic
ATTACH;FMTTYPE="image/jpeg":
ATTENDEE;ROLE=REQ-PARTICIPANT;PARTSTAT=ACCEPTED;RSVP=TRUE;CN=Michelle:
 https://epanews.fr/profile/MichelleItic
END:VEVENT
END:VCALENDAR
