BEGIN:VCALENDAR
PRODID:NingEventWidget-v1
VERSION:2.0
METHOD:PUBLISH
BEGIN:VTIMEZONE
TZID:Europe/Paris
X-LIC-LOCATION:Europe/Paris
BEGIN:DAYLIGHT
TZOFFSETFROM:+0100
TZOFFSETTO:+0200
TZNAME:CEST
DTSTART:19700329T020000
RRULE:FREQ=YEARLY;BYMONTH=3;BYDAY=-1SU
END:DAYLIGHT
BEGIN:STANDARD
TZOFFSETFROM:+0200
TZOFFSETTO:+0100
TZNAME:CET
DTSTART:19701025T030000
RRULE:FREQ=YEARLY;BYMONTH=10;BYDAY=-1SU
END:STANDARD
END:VTIMEZONE
BEGIN:VEVENT
UID:2485226:Event:875248
DTSTAMP:20260421T184502Z
SUMMARY:5 jours d'exploration de nos voix et de ressourcement
DESCRIPTION:du 1er au 5 aôut à Empurany, centre Ardèche \n5 jours 
 d'exploration de nos voix, des sons et des vibrations qui apaisent et 
 libèrent \npour retrouver la joie de chanter et de créer \n\nPour 
 plus d'information, aller sur https://epanews.fr/events/5-jours-d-expl
 oration-de-nos-voix-et-de-ressourcement
DTSTART;TZID=Europe/Paris:20120801T180000
DTEND;TZID=Europe/Paris:20120805T190000
CATEGORIES:07
LOCATION:Empurany (ardèche)
WEBSITE:http://www.solfie.fr
URL:http://www.solfie.fr
CONTACT:0664255232
ORGANIZER;CN=solfie:https://epanews.fr/profile/solfie
ATTACH;FMTTYPE="image/jpeg":
ATTENDEE;ROLE=REQ-PARTICIPANT;PARTSTAT=ACCEPTED;RSVP=TRUE;CN="L'école
  du Sens":https://epanews.fr/profile/maison
ATTENDEE;ROLE=REQ-PARTICIPANT;PARTSTAT=ACCEPTED;RSVP=TRUE;CN=solfie:ht
 tps://epanews.fr/profile/solfie
END:VEVENT
END:VCALENDAR
