BEGIN:VCALENDAR
PRODID:NingEventWidget-v1
VERSION:2.0
METHOD:PUBLISH
BEGIN:VTIMEZONE
TZID:Europe/Paris
X-LIC-LOCATION:Europe/Paris
BEGIN:DAYLIGHT
TZOFFSETFROM:+0100
TZOFFSETTO:+0200
TZNAME:CEST
DTSTART:19700329T020000
RRULE:FREQ=YEARLY;BYMONTH=3;BYDAY=-1SU
END:DAYLIGHT
BEGIN:STANDARD
TZOFFSETFROM:+0200
TZOFFSETTO:+0100
TZNAME:CET
DTSTART:19701025T030000
RRULE:FREQ=YEARLY;BYMONTH=10;BYDAY=-1SU
END:STANDARD
END:VTIMEZONE
BEGIN:VEVENT
UID:2485226:Event:1111535
DTSTAMP:20260421T163412Z
SUMMARY:Découvrir le Massage* SUN-ZHU
DESCRIPTION:Massage* SUN-ZHU\nou l'Art du Réveil de l'Energie Vitale.
 \nInnovant et réunissant plusieurs méthodes aussi bien ancestrales q
 ue plus actuelles,  c'est le Massage* SUN-ZHU.\nSun- Zhu désigne en 
 chinois bambou et image du bambou, souple et fort, flexible et résist
 ant, élan vital symbole de verticalité, lien entre la Terre et le Ci
 el, entre le corps et l'esprit.Ce massage* permet de retrouver le souf
 fle de vie en nous, de faire danser chaque parcelle corporelle, et de 
 préserver ou  de rétablir notre énergie vitale, tout en apportant 
 une profonde détente. Les stages de Massage* SUN-ZHU s'adressent aux 
 passionnés du bien-être, et aux thérapeutes, et ne nécéssitent au
 cune connaissance préalable. Ils permettent la découverte et l'appre
 ntissage des différentes techniques manuelles ainsi que les théories
  énergétiques ancestrales: celles des 5 éléments, des méridiens e
 t des points d'acupuncture chères à la Tradition Energétique Chinoi
 se, la notion de prana, les 7 Chakras principaux, les points marmas, f
 ondements de l'ayurveda.\nProgrammation sur 4 week-ends en 2013:\n9/10
  février- 9/10 mars- 6/7 avril- 1/2 juin\nPour toute information, con
 tactez:\nDaniela Molinari au 06 25 02 08 59 ou Laurence Huyghe au 06 6
 4 32 37 24\n*Le terme \"Massage\" est utilisé dans un but de bien-êt
 re, sans aucune fin médicale.\n\nPour plus d'information, aller sur h
 ttps://epanews.fr/events/4-week-ends-de-stage-massage-sun-zhu-sur-nice
DTSTART;TZID=Europe/Paris:20130209T090000
DTEND;TZID=Europe/Paris:20130210T180000
CATEGORIES:06
LOCATION:Nice
WEBSITE:
URL:
CONTACT:06 25 02 08 59/ 06 64 32 37 24
ORGANIZER;CN=Laurence:https://epanews.fr/profile/Laurence943
ATTACH;FMTTYPE="image/jpeg":http://storage.ning.com/topology/rest/1.0/
 file/get/1662734072?profile=original
ATTENDEE;ROLE=REQ-PARTICIPANT;PARTSTAT=ACCEPTED;RSVP=TRUE;CN=Laurence:
 https://epanews.fr/profile/Laurence943
END:VEVENT
END:VCALENDAR
