BEGIN:VCALENDAR
PRODID:NingEventWidget-v1
VERSION:2.0
METHOD:PUBLISH
BEGIN:VTIMEZONE
TZID:Europe/Paris
X-LIC-LOCATION:Europe/Paris
BEGIN:DAYLIGHT
TZOFFSETFROM:+0100
TZOFFSETTO:+0200
TZNAME:CEST
DTSTART:19700329T020000
RRULE:FREQ=YEARLY;BYMONTH=3;BYDAY=-1SU
END:DAYLIGHT
BEGIN:STANDARD
TZOFFSETFROM:+0200
TZOFFSETTO:+0100
TZNAME:CET
DTSTART:19701025T030000
RRULE:FREQ=YEARLY;BYMONTH=10;BYDAY=-1SU
END:STANDARD
END:VTIMEZONE
BEGIN:VEVENT
UID:2485226:Event:1292048
DTSTAMP:20260421T161045Z
SUMMARY:4° rencontre des Tisseurs de Lumière : Célébrer le Divin F
 éminin en Soi
DESCRIPTION:Célébrer le Féminin sacré, source de vie, de créativi
 té, de beauté, d’amour et de partage Ouvrir la voie de la réconci
 liation du féminin et du masculin en soi Honorer le Ciel-Père et la 
 Terre-Mère...\n_4%20Rencontre%20Tisseurs%20mai13%2B%2B%2B.pdf\n\nPour
  plus d'information, aller sur https://epanews.fr/events/4-rencontre-d
 es-tisseurs-de-lumi-re-c-l-brer-le-divin-f-minin-en
DTSTART;TZID=Europe/Paris:20130510T100000
DTEND;TZID=Europe/Paris:20130512T170000
CATEGORIES:30
LOCATION:Sommières (30)
WEBSITE:http://www.lemasdemestre.com/
URL:http://www.lemasdemestre.com/
CONTACT:Gaëlle : 06 61 55 58 66
ORGANIZER:Les Tisseurs de Lumière
ATTACH;FMTTYPE="image/jpeg":http://storage.ning.com/topology/rest/1.0/
 file/get/1662807728?profile=original
ATTENDEE;ROLE=REQ-PARTICIPANT;PARTSTAT=ACCEPTED;RSVP=TRUE;CN="DARBORD 
 Catherine":https://epanews.fr/profile/DARBORDCatherine
END:VEVENT
END:VCALENDAR
