BEGIN:VCALENDAR
PRODID:NingEventWidget-v1
VERSION:2.0
METHOD:PUBLISH
BEGIN:VTIMEZONE
TZID:Europe/Paris
X-LIC-LOCATION:Europe/Paris
BEGIN:DAYLIGHT
TZOFFSETFROM:+0100
TZOFFSETTO:+0200
TZNAME:CEST
DTSTART:19700329T020000
RRULE:FREQ=YEARLY;BYMONTH=3;BYDAY=-1SU
END:DAYLIGHT
BEGIN:STANDARD
TZOFFSETFROM:+0200
TZOFFSETTO:+0100
TZNAME:CET
DTSTART:19701025T030000
RRULE:FREQ=YEARLY;BYMONTH=10;BYDAY=-1SU
END:STANDARD
END:VTIMEZONE
BEGIN:VEVENT
UID:2485226:Event:493503
DTSTAMP:20260421T232101Z
SUMMARY:4ème Rencontres Bien être
DESCRIPTION:Rencontres de thérapeutes venus partager leur savoirs fai
 re et expériences avec le public mais aussi des conférences de 14h 3
 0 à 18h30 chaque heures\npsychogénéalogie, élixirs floraux, facia 
 térapie, chromato-térapie, sophrologie, chamanisme, coach en sensual
 ité et plus encore...Entrée gratuite!\n\nPour plus d'information, al
 ler sur https://epanews.fr/events/4-me-rencontres-bien-tre
DTSTART;TZID=Europe/Paris:20110923T140000
DTEND;TZID=Europe/Paris:20110923T200000
CATEGORIES:30
LOCATION:Nîmes
WEBSITE:
URL:
CONTACT:06 10 78 40 77
ORGANIZER:France Rousseau
ATTACH;FMTTYPE="image/jpeg":http://storage.ning.com/topology/rest/1.0/
 file/get/1662454213?profile=original
ATTENDEE;ROLE=REQ-PARTICIPANT;PARTSTAT=ACCEPTED;RSVP=TRUE;CN="isabelle
  Rose":https://epanews.fr/profile/isabelleRose
END:VEVENT
END:VCALENDAR
