BEGIN:VCALENDAR
PRODID:NingEventWidget-v1
VERSION:2.0
METHOD:PUBLISH
BEGIN:VTIMEZONE
TZID:Europe/Paris
X-LIC-LOCATION:Europe/Paris
BEGIN:DAYLIGHT
TZOFFSETFROM:+0100
TZOFFSETTO:+0200
TZNAME:CEST
DTSTART:19700329T020000
RRULE:FREQ=YEARLY;BYMONTH=3;BYDAY=-1SU
END:DAYLIGHT
BEGIN:STANDARD
TZOFFSETFROM:+0200
TZOFFSETTO:+0100
TZNAME:CET
DTSTART:19701025T030000
RRULE:FREQ=YEARLY;BYMONTH=10;BYDAY=-1SU
END:STANDARD
END:VTIMEZONE
BEGIN:VEVENT
UID:2485226:Event:797538
DTSTAMP:20260422T051708Z
SUMMARY:4 jours de printemps dans un chateau breton
DESCRIPTION:du 17 au 20 MAI\n\n2 seances de yoga au quotidien pour le 
 corps\ndecodage du langage emotionnel du visage\nsession d'hypnose peu
 t etre, d'expansion de conscience surement\nMandala et cartes couleurs
  selon Philippe Houyet\nballade ds les bois vers les chevreuils et ssa
 ngliers\ncuisine creative : soupe d'ortie et omelette a l'oseille\nmom
 ents emailles de rire avec des impros Kf theatre...\net tout ce que vo
 us pourrez proposer..\n60 pour 3 nuits en double\net participation vol
 ontaire et consciente sur une base de 50 e\n\nPour plus d'information,
  aller sur https://epanews.fr/events/4-jours-de-printemps-dans-un-chat
 eau-breton
DTSTART;TZID=Europe/Paris:20120517T000000
DTEND;TZID=Europe/Paris:20120520T235900
CATEGORIES:56, morbihan
LOCATION:10 km de REDON
WEBSITE:http://chateaudebezyl.com
URL:http://chateaudebezyl.com
CONTACT:06 68 26 68 68
ORGANIZER:corinne=abcconceptedevie.com
ATTACH;FMTTYPE="image/jpeg":http://storage.ning.com/topology/rest/1.0/
 file/get/1662606680?profile=original
ATTENDEE;ROLE=REQ-PARTICIPANT;PARTSTAT=ACCEPTED;RSVP=TRUE;CN=corinne:h
 ttps://epanews.fr/profile/burgaliere
END:VEVENT
END:VCALENDAR
