BEGIN:VCALENDAR
PRODID:NingEventWidget-v1
VERSION:2.0
METHOD:PUBLISH
BEGIN:VTIMEZONE
TZID:Europe/Paris
X-LIC-LOCATION:Europe/Paris
BEGIN:DAYLIGHT
TZOFFSETFROM:+0100
TZOFFSETTO:+0200
TZNAME:CEST
DTSTART:19700329T020000
RRULE:FREQ=YEARLY;BYMONTH=3;BYDAY=-1SU
END:DAYLIGHT
BEGIN:STANDARD
TZOFFSETFROM:+0200
TZOFFSETTO:+0100
TZNAME:CET
DTSTART:19701025T030000
RRULE:FREQ=YEARLY;BYMONTH=10;BYDAY=-1SU
END:STANDARD
END:VTIMEZONE
BEGIN:VEVENT
UID:2485226:Event:1476699
DTSTAMP:20260421T144336Z
SUMMARY:4 jours de massage tantrique Cachemiry
DESCRIPTION:Pour découvrir et apprendre les techniques et intégrer l
 a dimension énergétique de ce massage. Que l’objectif soit profess
 ionnel ou personnel.\nL’alliance du Tantra et du Massage Cachemiry h
 armonise, rééquilibre au niveau énergétique relationnel et spiritu
 el. Le processus proposé aux thérapeutes et aux particuliers permet 
 également d’acquérir l’aisance et la joie à offrir et à recevo
 ir, de se libérer de blocages et être dans le mouvement de la Vie, d
 ans la conscience et l’expansion. Guérisons et déblocages sont ré
 gulièrement constatés, vécus et partagés.\n\nAu : « Le Chant des
  Arbres »,2875 chemin du Radelier, à  Pierrelatte, nous sommes accu
 eillis dans le domaine de « Johanne RAZANAMAHAY et Christian Tal SCH
 ALLER ». une grande maison qui propose un hébergement simple et con
 vivial (chambres de 2 à 4 personnes en répartition libre – 15 € 
 par nuitée), cuisine et repas autogérés avec une répartition finan
 cière des achats. Gare TER – Pierrelatte, avec voiturage possible.\
 nLe premier jour les stages commencent à 10h (pas de voiturage par Ch
 ristophe le matin du 1° jour) et finissent le dernier jour vers 17h.\
 nIl est recommandé d’arriver la veille, sachant qu’il y a une pet
 ite animation le soir précédent le stage.\n\nPour plus d'information
 , aller sur https://epanews.fr/events/4-jours-de-massage-tantrique-cac
 hemiry
DTSTART;TZID=Europe/Paris:20140513T220000
DTEND;TZID=Europe/Paris:20140516T190000
CATEGORIES:26
LOCATION:chant des arbres
WEBSITE:http://www.relations-d-amour.net/pages/massage_cachemiry/massa
 ge_cachemiry_02.htm
URL:http://www.relations-d-amour.net/pages/massage_cachemiry/massage_c
 achemiry_02.htm
CONTACT:0612199141
ORGANIZER;CN="Christophe Dacier":https://epanews.fr/profile/Christophe
 Dacier
ATTACH;FMTTYPE="image/jpeg":http://storage.ning.com/topology/rest/1.0/
 file/get/1662896251?profile=original
ATTENDEE;ROLE=REQ-PARTICIPANT;PARTSTAT=ACCEPTED;RSVP=TRUE;CN="Christop
 he Dacier":https://epanews.fr/profile/ChristopheDacier
END:VEVENT
END:VCALENDAR
