BEGIN:VCALENDAR
PRODID:NingEventWidget-v1
VERSION:2.0
METHOD:PUBLISH
BEGIN:VTIMEZONE
TZID:Europe/Paris
X-LIC-LOCATION:Europe/Paris
BEGIN:DAYLIGHT
TZOFFSETFROM:+0100
TZOFFSETTO:+0200
TZNAME:CEST
DTSTART:19700329T020000
RRULE:FREQ=YEARLY;BYMONTH=3;BYDAY=-1SU
END:DAYLIGHT
BEGIN:STANDARD
TZOFFSETFROM:+0200
TZOFFSETTO:+0100
TZNAME:CET
DTSTART:19701025T030000
RRULE:FREQ=YEARLY;BYMONTH=10;BYDAY=-1SU
END:STANDARD
END:VTIMEZONE
BEGIN:VEVENT
UID:2485226:Event:1520326
DTSTAMP:20260421T173207Z
SUMMARY:30ème rentrée du tai chi pour l'école ITCCA de Nîmes
DESCRIPTION:Bonjour à tous !  c'est avec grand bonheur que nous vous 
 invitons à découvrir le tai chi chuan au sein de notre école. nous 
 fêtons lors de cette rentrée, 30 années passées à la transmission
  de cet art de vivre ancestral. Vous trouverez sur notre site internet
  ainsi que sur les photos suivantes toutes les informations dont vous 
 aurez besoin pour venir aux séances d'essai gratuites à Nîmes et à
  Marguerittes. www.tai-chi-processus.com Bonne rentrée à tous, à bi
 entôt !\n\n\n\n\nPour plus d'information, aller sur https://epanews.f
 r/events/30-me-rentr-e-du-tai-chi-pour-l-cole-itcca-de-n-mes
DTSTART;TZID=Europe/Paris:20130916T180000
DTEND;TZID=Europe/Paris:20130919T190000
CATEGORIES:30
LOCATION:Nimes et environ
WEBSITE:http://www.tai-chi-processus.com
URL:http://www.tai-chi-processus.com
CONTACT:04 66 26 16 83
ORGANIZER;CN="Jardin intérieur":https://epanews.fr/profile/Lemniscate
 Processus
ATTACH;FMTTYPE="image/jpeg":http://storage.ning.com/topology/rest/1.0/
 file/get/1662915128?profile=original
ATTENDEE;ROLE=REQ-PARTICIPANT;PARTSTAT=ACCEPTED;RSVP=TRUE;CN="Jardin i
 ntérieur":https://epanews.fr/profile/LemniscateProcessus
END:VEVENT
END:VCALENDAR
