BEGIN:VCALENDAR
PRODID:NingEventWidget-v1
VERSION:2.0
METHOD:PUBLISH
BEGIN:VTIMEZONE
TZID:Europe/Paris
X-LIC-LOCATION:Europe/Paris
BEGIN:DAYLIGHT
TZOFFSETFROM:+0100
TZOFFSETTO:+0200
TZNAME:CEST
DTSTART:19700329T020000
RRULE:FREQ=YEARLY;BYMONTH=3;BYDAY=-1SU
END:DAYLIGHT
BEGIN:STANDARD
TZOFFSETFROM:+0200
TZOFFSETTO:+0100
TZNAME:CET
DTSTART:19701025T030000
RRULE:FREQ=YEARLY;BYMONTH=10;BYDAY=-1SU
END:STANDARD
END:VTIMEZONE
BEGIN:VEVENT
UID:2485226:Event:1052874
DTSTAMP:20260422T054322Z
SUMMARY:2nde soirée participative : le projet Happy Planète !
DESCRIPTION:Happy Planète, l’association !\n \nRedécouvrez le pla
 isir de co-créer en vous amusant !\n Venez découvrir les créatifs 
 et réjouissants outils de l’intelligence collective, appliqués à 
 des projets au service de l’humain : rencontrez un porteur de projet
 , participez, avec votre matière grise, votre cœur, et vos émotions
 , à sa propre réflexion, enrichissez-le de vos idées, ouvrez-lui de
 s pistes, des réseaux et pourquoi pas …vos bras !\n Cette seconde 
 soirée est consacrée cette fois au projet même de l’association H
 appy Planète, qui promeut une vision englobant écologies personnelle
 s (bien-être, épanouissement) et collectives (développement durable
 ) à travers conférences et stages : recherche de sens et de bénévo
 les, objectifs, idées, ambitions, méthodes,  pistes de développeme
 nts…\nC'est le moment de vous appropriez, et d'enrichir …le projet
  de Happy Planète !\n \nPorteur de projet : Franck Dagorn Animatrice
  de la soirée : Sabine Lévèque Sur une idée de : Sophie Van Den Be
 rghe\n \nPratique\n.Montpellier - Centre Lacordaire  .Participation l
 ibre\n \nA savoir\nCette rencontre est une soirée \"brune\".\nTous l
 es deux mois, un nouveau cycle holistique de conférences pour un bonh
 eur désirable par tous...\n- orange, écologies personnelles : connai
 ssance de soi & bien-être\n- verte, écologies collectives : prendre 
 soin de ses environnements\n- brune, échanges & coopération : co-con
 struisons des projets humanistes\n- bleue, un autre regard : à la dé
 couverte des cultures, philosophies et spiritualités...\nChaque 1er e
 t 3ème mardis soirs au Centre Lacordaire, Montpellier Esplanade.\n \
 nAccès\nLe Centre Lacordaire est situé près du musée Fabre, dans l
 'enceinte du couvent des Dominicains. La sortie de rue donne boulevard
  Sarrail, face au petit manège couvert turquoise de l'esplanade.\n- 
 Tram : \n. station Comédie : longer à pied le boulevard Sarrail, c'
 est la seconde rue à gauche après le Gaumont Comédie en direction d
 u Corum\n. station Corum : monter les escaliers, longer l'allée arbor
 ée Paul Boulet jusqu'au Café de l'esplanade sur le boulevard Sarrail
  parallèle, c'est la rue juste à droite.\n- Voiture : \n. stationn
 ement payant au parking sous-terrain de la Comédie\n. ou stationnemen
 t gratuit le soir au parking entre le Crowne Plaza Corum et le lycée 
 Joffre. Traverser les espaces arborés en 6 mn à pied via l'allée M
 issak Manouchian, séparant l'esplanade Charles de Gaulle du jardin du
  champ de mars.\n\nPour plus d'information, aller sur https://epanews.
 fr/events/2nde-soir-e-participative-le-projet-happy-plan-te
DTSTART;TZID=Europe/Paris:20121204T194500
DTEND;TZID=Europe/Paris:20121204T220000
CATEGORIES:34
LOCATION:Centre Lacordaire
WEBSITE:http://www.happyplanete.org/evenement-134.html
URL:http://www.happyplanete.org/evenement-134.html
CONTACT:06.32.08.51.58
ORGANIZER:Association HappyPlanete
ATTACH;FMTTYPE="image/jpeg":http://storage.ning.com/topology/rest/1.0/
 file/get/1662710381?profile=original
ATTENDEE;ROLE=REQ-PARTICIPANT;PARTSTAT=ACCEPTED;RSVP=TRUE;CN="Sophie v
 db":https://epanews.fr/profile/Sophievdb
END:VEVENT
END:VCALENDAR
