BEGIN:VCALENDAR
PRODID:NingEventWidget-v1
VERSION:2.0
METHOD:PUBLISH
BEGIN:VTIMEZONE
TZID:Europe/Paris
X-LIC-LOCATION:Europe/Paris
BEGIN:DAYLIGHT
TZOFFSETFROM:+0100
TZOFFSETTO:+0200
TZNAME:CEST
DTSTART:19700329T020000
RRULE:FREQ=YEARLY;BYMONTH=3;BYDAY=-1SU
END:DAYLIGHT
BEGIN:STANDARD
TZOFFSETFROM:+0200
TZOFFSETTO:+0100
TZNAME:CET
DTSTART:19701025T030000
RRULE:FREQ=YEARLY;BYMONTH=10;BYDAY=-1SU
END:STANDARD
END:VTIMEZONE
BEGIN:VEVENT
UID:2485226:Event:2655172
DTSTAMP:20260421T224326Z
SUMMARY:24h de méditation pour l'eau, les baleines et les dauphins
DESCRIPTION:WE ARE OCEAN 12 Juin 2016 à partir de 10h à Paris au Gra
 nd Rex  et partout sur la planète  Parrainé par Leina Sato et Paul W
 atson  Tous les détails ici : >>>> http://24earth.org/\nhttps://www.y
 outube.com/watch?feature=player_embedded&v=N-miH6hpXJA\nPartout dans l
 e monde en live sur Internet pendant 24 heures\n\nPour plus d'informat
 ion, aller sur https://epanews.fr/events/24h-de-m-ditation-pour-l-eau-
 les-baleines-et-les-dauphins
DTSTART;TZID=Europe/Paris:20160612T100000
DTEND;TZID=Europe/Paris:20160612T120000
CATEGORIES:tous
LOCATION:Grand Rex
WEBSITE:https://maps.google.com/maps?ll=48.875952,2.377408&z=15&t=m&hl
 =fr&gl=FR&mapclient=embed&daddr=Le%20Grand%20Rex%201%20Boulevard%20Poi
 ssonni%C3%A8re%2075002%20Paris@48.8704481,2.3474533
URL:https://maps.google.com/maps?ll=48.875952,2.377408&z=15&t=m&hl=fr&
 gl=FR&mapclient=embed&daddr=Le%20Grand%20Rex%201%20Boulevard%20Poisson
 ni%C3%A8re%2075002%20Paris@48.8704481,2.3474533
CONTACT:
ORGANIZER:http://24earth.org/
ATTACH;FMTTYPE="image/jpeg":
ATTENDEE;ROLE=REQ-PARTICIPANT;PARTSTAT=ACCEPTED;RSVP=TRUE;CN=Aloha:htt
 ps://epanews.fr/profile/Aloha926
END:VEVENT
END:VCALENDAR
