BEGIN:VCALENDAR
PRODID:NingEventWidget-v1
VERSION:2.0
METHOD:PUBLISH
BEGIN:VTIMEZONE
TZID:Europe/Paris
X-LIC-LOCATION:Europe/Paris
BEGIN:DAYLIGHT
TZOFFSETFROM:+0100
TZOFFSETTO:+0200
TZNAME:CEST
DTSTART:19700329T020000
RRULE:FREQ=YEARLY;BYMONTH=3;BYDAY=-1SU
END:DAYLIGHT
BEGIN:STANDARD
TZOFFSETFROM:+0200
TZOFFSETTO:+0100
TZNAME:CET
DTSTART:19701025T030000
RRULE:FREQ=YEARLY;BYMONTH=10;BYDAY=-1SU
END:STANDARD
END:VTIMEZONE
BEGIN:VEVENT
UID:2485226:Event:1234331
DTSTAMP:20260422T080213Z
SUMMARY:conference g.sinquin  a montpellier 24 mai
DESCRIPTION:VENDREDI 24 MAI 2013 A MONTPELLIER\nÂ Â Â Â  L EVEIL A POR
 TE DE TOUS\npubliÃ© aux Ã©ditions de la Nouvelle PensÃ©e.\nPAR GILLES 
 SINQUIN Un nouveau monde s'installe. Depuis 2000, l'Ã©volution planÃ©t
 aire ne passe\nplus par .....l'Intelligence mais par la ....Conscience
 . !!!\nAinsi nous devenons nous-mÃªmes des crÃ©ateurs.\nL'Ã©veil est Ã
   portÃ©e de tous :\nLa compassion, la tolÃ©rance,la paix, la joie et 
 le silence sont nos guides\n\nDans cet Ã©tat, si nous utilisons le pou
 voir de l'intention, des transformations peuvent s'accomplir pour nous
  et nous nous ouvrons pour un monde nouveau\n\nPour plus d'information
 , aller sur https://epanews.fr/events/24-mai-conference-eveil-a-porte-
 de-tous
DTSTART;TZID=Europe/Paris:20130524T080000
DTEND;TZID=Europe/Paris:20130524T100000
CATEGORIES:34
LOCATION:MONTPELLIER CENTRE COMEDIE
WEBSITE:http://CENTRE LACORDAIRE
URL:http://CENTRE LACORDAIRE
CONTACT:0681234894
ORGANIZER;CN=Alain:https://epanews.fr/profile/AlainSaunier
ATTACH;FMTTYPE="image/jpeg":http://storage.ning.com/topology/rest/1.0/
 file/get/1662779628?profile=original
ATTENDEE;ROLE=REQ-PARTICIPANT;PARTSTAT=ACCEPTED;RSVP=TRUE;CN=Alain:htt
 ps://epanews.fr/profile/AlainSaunier
ATTENDEE;ROLE=REQ-PARTICIPANT;PARTSTAT=TENTATIVE;RSVP=TRUE;CN=Madame:h
 ttps://epanews.fr/profile/Madame438
END:VEVENT
END:VCALENDAR
