BEGIN:VCALENDAR
PRODID:NingEventWidget-v1
VERSION:2.0
METHOD:PUBLISH
BEGIN:VTIMEZONE
TZID:Europe/Paris
X-LIC-LOCATION:Europe/Paris
BEGIN:DAYLIGHT
TZOFFSETFROM:+0100
TZOFFSETTO:+0200
TZNAME:CEST
DTSTART:19700329T020000
RRULE:FREQ=YEARLY;BYMONTH=3;BYDAY=-1SU
END:DAYLIGHT
BEGIN:STANDARD
TZOFFSETFROM:+0200
TZOFFSETTO:+0100
TZNAME:CET
DTSTART:19701025T030000
RRULE:FREQ=YEARLY;BYMONTH=10;BYDAY=-1SU
END:STANDARD
END:VTIMEZONE
BEGIN:VEVENT
UID:2485226:Event:1944647
DTSTAMP:20260422T054252Z
SUMMARY:2 confÃ©rences avec lovia
DESCRIPTION:Bonjour les curieux et passionnÃ©s de l'astrologie, du mon
 de Ã©sotÃ©rique et quantique ou curieux de tout! Je vous convie Ã  une
  confÃ©rence inÃ©dite au forum 104.\nL'astrologie, cette science nous 
 Ã©tonne et nous stimule depuis que les premiers hommes ont levÃ© les y
 eux au ciel pour observer les Ã©toiles...pour ceux qui ne connaissent 
 pas Angelo Lauria, c est un personnage incroyable qui diffuse depuis 2
 011 un nouveau systÃ¨me astrologique!  Voici le thÃ¨me: ThÃ¨me de ma p
 rochaine confÃ©rence: \"MatiÃ¨re grise, or noir\"  Le speach: comprend
 re l'enjeu de nos pensÃ©es dans la matÃ©rialisation de ce monde. La pe
 nsÃ©e est crÃ©atrice et reprÃ©sente un vÃ©ritable enjeu pour ceux qui 
 l'ont compris, en particulier les pouvoirs \"publics\" rejetant tous l
 es termes \"Ã©nergÃ©tiques\" et plaÃ§ant comme \"hors la loi\" des tec
 hniques destinÃ©es Ã  l'Ã©mancipation des individus.ThÃ¨mes pourtant e
 xpÃ©rimentÃ©s pour donner lieu Ã  des brevets privÃ©s. Brevets qui tom
 beront plus tardivement dans le domaine public.  Aujourd hui, \"les on
 des positives\", nouveau slogan de TF1, deviennent l'or noir de ce 21e
 me siÃ¨cle. Notre matiÃ¨re grise deviendra Ã©minemment prÃ©cieuse. Com
 prenons la maintenant.  En deuxiÃ¨me partie, les questions-rÃ©ponses d
 e l'assistance seront le point de dÃ©part de techniques permettant de 
 comprendre son propre fonctionnement Ã  partir d'un fonctionnement glo
 bale Ã  l'espÃ¨ce humaine. \n2Ã¨me partie de soirÃ©e, Ã  20h15 : confÃ
 ©rence avec Angelo Lauria, confÃ©rencier et auteur de lâ€™ouvrage   LE
  LIVRE DES HARMONIQUES, ENTREZ DANS UNE NOUVELLE ÃˆRE ASTROLOGIQUE   A
 strologie, tarots et numÃ©rologie : trois arts divinatoires distincts,
  qui ont des convergences et des divergences, mais qui demeurent trÃ¨s
  diffÃ©rents.  Un nouvel art divinatoire qui serait une rencontre de c
 es trois pratiques est-il possible?  Dans son systÃ¨me inÃ©dit, et Ã  
 travers son livre Le Livre des Harmoniques, entrez dans une nouvelle Ã
 ¨re astrologique, Angelo Lauria vous propose un nouveau zodiaque, qui 
 contient non pas douze, mais 27 signes obtenus avec lâ€™addition des c
 hiffres de la date de naissance. DÃ©couvrez aussi votre ascendant, vot
 re quÃªte de vie et votre harmonique annuelleâ€¦  Le systÃ¨me se prÃ©s
 ente Ã©galement sous la forme dâ€™un oracle de 36 cartes.   Quelle est
  lâ€™origine de ce systÃ¨me ?  Câ€™est dâ€™aprÃ¨s une observation assi
 due du phÃ©nomÃ¨ne des synchronicitÃ©s que le systÃ¨me des harmoniques
  a vu le jour. Les coÃ¯ncidences ont du sens, il nâ€™y a pas de hasard
 â€¦  SÃ©ance de dÃ©dicaces Ã  21h et possibilitÃ©s de rencontrer les c
 onfÃ©renciers. Fin 21h45\nWeezevent pour rÃ©server vos places. : https
 ://www.weezevent.com/les-conferences-au-forum-104-2-intervenants\n\n\n
 Pour plus d'information, aller sur https://epanews.fr/events/2-conf-re
 nces-avec-lovia
DTSTART;TZID=Europe/Paris:20140620T190000
DTEND;TZID=Europe/Paris:20140620T213000
CATEGORIES:75
LOCATION:Forum 104 rue de Vaugirard 75006 Paris
WEBSITE:
URL:
CONTACT:O662330013
ORGANIZER:loviadeveloppement.com
ATTACH;FMTTYPE="image/jpeg":
ATTENDEE;ROLE=REQ-PARTICIPANT;PARTSTAT=ACCEPTED;RSVP=TRUE;CN=ChannelAm
 ira:https://epanews.fr/profile/ChannelAmira
END:VEVENT
END:VCALENDAR
