BEGIN:VCALENDAR
PRODID:NingEventWidget-v1
VERSION:2.0
METHOD:PUBLISH
BEGIN:VTIMEZONE
TZID:Europe/Paris
X-LIC-LOCATION:Europe/Paris
BEGIN:DAYLIGHT
TZOFFSETFROM:+0100
TZOFFSETTO:+0200
TZNAME:CEST
DTSTART:19700329T020000
RRULE:FREQ=YEARLY;BYMONTH=3;BYDAY=-1SU
END:DAYLIGHT
BEGIN:STANDARD
TZOFFSETFROM:+0200
TZOFFSETTO:+0100
TZNAME:CET
DTSTART:19701025T030000
RRULE:FREQ=YEARLY;BYMONTH=10;BYDAY=-1SU
END:STANDARD
END:VTIMEZONE
BEGIN:VEVENT
UID:2485226:Event:1283626
DTSTAMP:20260423T190812Z
SUMMARY:1er Festi'Bonheur
DESCRIPTION:Du 1er au 3 mai l'école Internationale du Rire et du Bonh
 eur organise le\n1er FESTI'BONHEUR\n3 jours pour découvrir les diffé
 rentes pratiques du bonheur !!\n \nJ'y serai et vous invite à m'y re
 trouver pour passer un super moment ensemble !\n \nPrésentation de l
 'événement :\nVenez réenchanter votre vie et être acteur de votre 
 bonheur durant de festival de la joie de vivre unique au monde!  • 3
 0 INTERVENANTS • 50 CONFÉRENCES ET ATELIERS • UNE EXPOSITION D'AR
 T • UN CONCOURS DE PHOTOS ET RECETTES DU BONHEUR • UN SALON DU LIV
 RE • UNE SOIRÉE CINÉ BONHEUR • UNE SOIRÉE DANSE ET RIRE • UNE
  SOIRÉE D'INTELLIGENCE COLLECTIVE RETRANSMISE SUR INTERNET POUR LE LA
 NCEMENT DE L'INITIATIVE CITOYENNE : LES MILITANTS DU BONHEUR\n \nProf
 itez du PASS à 120 € pour toutes les activités durant cinq jours e
 t des tarifs promotionnels de formation!\n\nRetrouvez le programme sur
  le site de l'école :\nhttp://www.ecolederire.org/evenements-ecole-in
 ternationale-du-rire-festi-bonheur.html\n\nPour plus d'information, al
 ler sur https://epanews.fr/events/1er-festi-bonheur
DTSTART;TZID=Europe/Paris:20130501T080000
DTEND;TZID=Europe/Paris:20130503T180000
CATEGORIES:34
LOCATION:Frontignan
WEBSITE:http://www.ecolederire.org/evenements-ecole-internationale-du-
 rire-festi-bonheur.html
URL:http://www.ecolederire.org/evenements-ecole-internationale-du-rire
 -festi-bonheur.html
CONTACT:06 70 67 86 34
ORGANIZER:Ecole Internationale du Rire et du Bonheur
ATTACH;FMTTYPE="image/jpeg":http://storage.ning.com/topology/rest/1.0/
 file/get/1662802517?profile=original
ATTENDEE;ROLE=REQ-PARTICIPANT;PARTSTAT=ACCEPTED;RSVP=TRUE;CN="Sophie v
 db":https://epanews.fr/profile/Sophievdb
END:VEVENT
END:VCALENDAR
