BEGIN:VCALENDAR
PRODID:NingEventWidget-v1
VERSION:2.0
METHOD:PUBLISH
BEGIN:VTIMEZONE
TZID:Europe/Paris
X-LIC-LOCATION:Europe/Paris
BEGIN:DAYLIGHT
TZOFFSETFROM:+0100
TZOFFSETTO:+0200
TZNAME:CEST
DTSTART:19700329T020000
RRULE:FREQ=YEARLY;BYMONTH=3;BYDAY=-1SU
END:DAYLIGHT
BEGIN:STANDARD
TZOFFSETFROM:+0200
TZOFFSETTO:+0100
TZNAME:CET
DTSTART:19701025T030000
RRULE:FREQ=YEARLY;BYMONTH=10;BYDAY=-1SU
END:STANDARD
END:VTIMEZONE
BEGIN:VEVENT
UID:2485226:Event:270843
DTSTAMP:20260420T112727Z
SUMMARY:1er Edition de Salon de l'éveil du 30 Avril au 1er Mai à Pal
 avas salle bleue
DESCRIPTION:\n\nPour plus d'information, aller sur https://epanews.fr/
 events/1er-edition-de-salon-de-leveil
DTSTART;TZID=Europe/Paris:20110430T000000
DTEND;TZID=Europe/Paris:20110501T235900
CATEGORIES:34
LOCATION:PALAVAS
WEBSITE:http://Palavas-les-Flots avenue de brocardi, France
URL:http://Palavas-les-Flots avenue de brocardi, France
CONTACT:04 67 99 58 34
ORGANIZER:
ATTACH;FMTTYPE="image/jpeg":
ATTENDEE;ROLE=REQ-PARTICIPANT;PARTSTAT=ACCEPTED;RSVP=TRUE;CN="Concept 
 a Deco":https://epanews.fr/profile/ConceptaDeco
END:VEVENT
END:VCALENDAR
