BEGIN:VCALENDAR
PRODID:NingEventWidget-v1
VERSION:2.0
METHOD:PUBLISH
BEGIN:VTIMEZONE
TZID:Europe/Paris
X-LIC-LOCATION:Europe/Paris
BEGIN:DAYLIGHT
TZOFFSETFROM:+0100
TZOFFSETTO:+0200
TZNAME:CEST
DTSTART:19700329T020000
RRULE:FREQ=YEARLY;BYMONTH=3;BYDAY=-1SU
END:DAYLIGHT
BEGIN:STANDARD
TZOFFSETFROM:+0200
TZOFFSETTO:+0100
TZNAME:CET
DTSTART:19701025T030000
RRULE:FREQ=YEARLY;BYMONTH=10;BYDAY=-1SU
END:STANDARD
END:VTIMEZONE
BEGIN:VEVENT
UID:2485226:Event:2911195
DTSTAMP:20260424T235545Z
SUMMARY:1er Congrès \"Eveil et Vous\"
DESCRIPTION:Les 24/25 Mars 2018. à Aix en Provence (St Cannat)\n1er C
 ongrès EVEIL&VOUS\n- Plus de 15 conférenciers sur 2 jours.\n- Soiré
 e \"CONCERT SOUS HYPNOSE\" le samedi.\n- Projection du film de Julien 
 PERRON \"C'est quoi le bonheur pour vous ?\" suivie d'un débat.\n- No
 mbreux ateliers et partenaires présents.\nProgrammation intégrale vi
 a la page FACEBOOK de l'évènement et bientôt sur billetweb.\n\nPour
  plus d'information, aller sur https://epanews.fr/events/1er-congr-s-e
 veil-amp-vous
DTSTART;TZID=Europe/Paris:20180324T000000
DTEND;TZID=Europe/Paris:20180325T235900
CATEGORIES:13
LOCATION:AIX EN PROVENCE
WEBSITE:
URL:
CONTACT:
ORGANIZER:Eveil et Vous - Page Facebook
ATTACH;FMTTYPE="image/jpeg":http://storage.ning.com/topology/rest/1.0/
 file/get/1663704606?profile=original
ATTENDEE;ROLE=REQ-PARTICIPANT;PARTSTAT=ACCEPTED;RSVP=TRUE;CN="MARIE M'
 ":https://epanews.fr/profile/STABILE
ATTENDEE;ROLE=REQ-PARTICIPANT;PARTSTAT=ACCEPTED;RSVP=TRUE;CN="Marie Li
 ne FERNANDEZ":https://epanews.fr/profile/MarieLineFERNANDEZ
ATTENDEE;ROLE=REQ-PARTICIPANT;PARTSTAT=TENTATIVE;RSVP=TRUE;CN=Sandrine
 :https://epanews.fr/profile/Sandy57
END:VEVENT
END:VCALENDAR
