BEGIN:VCALENDAR
PRODID:NingEventWidget-v1
VERSION:2.0
METHOD:PUBLISH
BEGIN:VTIMEZONE
TZID:Europe/Paris
X-LIC-LOCATION:Europe/Paris
BEGIN:DAYLIGHT
TZOFFSETFROM:+0100
TZOFFSETTO:+0200
TZNAME:CEST
DTSTART:19700329T020000
RRULE:FREQ=YEARLY;BYMONTH=3;BYDAY=-1SU
END:DAYLIGHT
BEGIN:STANDARD
TZOFFSETFROM:+0200
TZOFFSETTO:+0100
TZNAME:CET
DTSTART:19701025T030000
RRULE:FREQ=YEARLY;BYMONTH=10;BYDAY=-1SU
END:STANDARD
END:VTIMEZONE
BEGIN:VEVENT
UID:2485226:Event:2474650
DTSTAMP:20260422T003109Z
SUMMARY:1er atelier faber mazlish: parler pour que nos enfants Ã©coute
 nt, Ã©couter pour qu'ils nous parlent
DESCRIPTION:Vous avez envie de relations harmonieuses avec vos enfants
 ? Vous rÃªvez que vos enfants sont en confiance avec vous et les autre
 s?Â Vous souhaitez Ã©changer et surtout trouvez des pistes pour vous a
 ider Ã  construire ces relations?Â Marie Joelle Vallois, pÃ©dagogue fo
 rmÃ©e Ã  la communication bienveillante vous propose le 1 er atelier d
 'une sÃ©rie de 7 avec pour thÃ¨me comment s'y rpendre avec les sentime
 nts nÃ©gatifs de l'enfant, ses frustrations, ses dÃ©ceptions, ses colÃ
 ¨res, sa tristesse....Â RÃ©servation au 10 novembre maximum nombre de 
 places limitÃ©es.Marie Joelle Vallois 0627268613 ou m.j.vallois@hotmai
 l.frNathalie Makars 0627355690 ou nathalie@opaline-reiki.com\n\nPour p
 lus d'information, aller sur https://epanews.fr/events/1er-atelier-fab
 er-mazlish-parler-pour-que-nos-enfants-coutent
DTSTART;TZID=Europe/Paris:20151116T200000
DTEND;TZID=Europe/Paris:20151116T223000
CATEGORIES:13
LOCATION:Maillane
WEBSITE:http://www.ovoia.com/bien-etre-maillane
URL:http://www.ovoia.com/bien-etre-maillane
CONTACT:0627355690
ORGANIZER;CN=Nathalie:https://epanews.fr/profile/Nathalie397
ATTACH;FMTTYPE="image/jpeg":http://storage.ning.com/topology/rest/1.0/
 file/get/1663481982?profile=original
ATTENDEE;ROLE=REQ-PARTICIPANT;PARTSTAT=ACCEPTED;RSVP=TRUE;CN=Nathalie:
 https://epanews.fr/profile/Nathalie397
END:VEVENT
END:VCALENDAR
