BEGIN:VCALENDAR
PRODID:NingEventWidget-v1
VERSION:2.0
METHOD:PUBLISH
BEGIN:VTIMEZONE
TZID:Europe/Paris
X-LIC-LOCATION:Europe/Paris
BEGIN:DAYLIGHT
TZOFFSETFROM:+0100
TZOFFSETTO:+0200
TZNAME:CEST
DTSTART:19700329T020000
RRULE:FREQ=YEARLY;BYMONTH=3;BYDAY=-1SU
END:DAYLIGHT
BEGIN:STANDARD
TZOFFSETFROM:+0200
TZOFFSETTO:+0100
TZNAME:CET
DTSTART:19701025T030000
RRULE:FREQ=YEARLY;BYMONTH=10;BYDAY=-1SU
END:STANDARD
END:VTIMEZONE
BEGIN:VEVENT
UID:2485226:Event:1283452
DTSTAMP:20260420T134114Z
SUMMARY:15Ã¨me JournÃ©e Mondiale du Rire
DESCRIPTION:Pour finir en beautÃ© ces quelques jours de dÃ©couverte de
 s pratiques du rire et du bonheur je vous invite de tout coeur Ã  me r
 etrouver Ã  la\n15Ã¨me JOURNEE MONDIALE DU RIRE\n\nLa JournÃ©e Mondial
 e du Rire, cÃ©lÃ©brÃ©e dans le monde entier le premier dimanche de Mai
 , a Ã©tÃ© initiÃ©e en 1998 par le Dr Madan Kataria, inventeur du yoga 
 du rire et des Clubs de Rire Ã  Mumbay (Inde).  En France, elle est cÃ
 ©lÃ©brÃ©e chaque annÃ©e depuis 2003 par Corinne Cosseron, qui a Ã©larg
 i le principe de cette journÃ©e Ã  plusieurs jours de festivitÃ©s cons
 tituant la plus grande fÃªte annuelle du rire et du bonheur rÃ©unissan
 t grand public et professionnels : Rassemblement International des Rie
 urs, Festi'Bonheur et Rencontres Zygomatiques.  La JournÃ©e Mondiale d
 u Rire est l'occasion de rÃ©unir tous les rieurs et de rÃ©aliser Le Pl
 us Grand Eclat de Rire de France en l'honneur d'une personnalitÃ© rece
 vant un Rire d'Or pour la remercier d'avoir fait connaÃ®tre les bienfa
 its du rire et du bonheur.\nAteliers de rire et de bonheur, plus grand
  Ã©clat de rire du France, remise d'un Rire d'Or... le tout sur la pla
 ge, dans la convivialitÃ©, avec un repas tirÃ© du sac et le tout gratu
 itement !!\nTout le programme de cette belle journÃ©e ici : http://www
 .ecolederire.org/evenements-journee-mondiale-du-rire.html\nÂ Cette jou
 rnÃ©e est entiÃ¨rement gratuite !!\nPensez Ã  amener un repas Ã  parta
 ger pour le midi, votre bonne humeur et une tenue colorÃ©e !\nATTENTIO
 N !! CONCOURS !!\nVotre gÃ¢teau Arc en ciel du bonheur !\nCe concours 
 est ouvert Ã  tous. La participation est gratuite.\nÂ \nLes gÃ¢teaux d
 ont l'intÃ©rieur devra forcÃ©ment Ãªtre arc en ciel seront Ã  dÃ©poser
  Dimanche 5 Mai 2013 Ã  10h Plage du Chant des Vagues au stand de l'Ec
 ole Internationale du Rire et du Bonheur oÃ¹ se tiendra la JournÃ©e Mo
 ndiale du Rire. Ils seront observÃ©s et dÃ©gustÃ©s par un jury de rieu
 rs et par les participants au Plus Grand Eclat de Rire de France.\nLes
  trois premiers prix seront dÃ©cernÃ©s Ã  14h.\nTous les dÃ©tails du c
 oncours ici : http://www.ecolederire.org/136-concours-de-gateaux-arc-e
 n-ciel-du-1er-festi-bonheur.html\nÂ \nVenez nombreux rire avec nous su
 r la plage !!\n\nPour plus d'information, aller sur https://epanews.fr
 /events/15-me-journ-e-mondiale-du-rire
DTSTART;TZID=Europe/Paris:20130505T080000
DTEND;TZID=Europe/Paris:20130505T180000
CATEGORIES:34
LOCATION:Frontignan
WEBSITE:http://www.ecolederire.org/evenements-journee-mondiale-du-rire
 .html
URL:http://www.ecolederire.org/evenements-journee-mondiale-du-rire.htm
 l
CONTACT:06 70 67 86 34
ORGANIZER:Ecole Internationale du Rire et du Bonheur
ATTACH;FMTTYPE="image/jpeg":http://storage.ning.com/topology/rest/1.0/
 file/get/1662803526?profile=original
ATTENDEE;ROLE=REQ-PARTICIPANT;PARTSTAT=ACCEPTED;RSVP=TRUE;CN="Sophie v
 db":https://epanews.fr/profile/Sophievdb
ATTENDEE;ROLE=REQ-PARTICIPANT;PARTSTAT=TENTATIVE;RSVP=TRUE;CN=trebolve
 rde:https://epanews.fr/profile/trebolverde
END:VEVENT
END:VCALENDAR
