BEGIN:VCALENDAR
PRODID:NingEventWidget-v1
VERSION:2.0
METHOD:PUBLISH
BEGIN:VTIMEZONE
TZID:Europe/Paris
X-LIC-LOCATION:Europe/Paris
BEGIN:DAYLIGHT
TZOFFSETFROM:+0100
TZOFFSETTO:+0200
TZNAME:CEST
DTSTART:19700329T020000
RRULE:FREQ=YEARLY;BYMONTH=3;BYDAY=-1SU
END:DAYLIGHT
BEGIN:STANDARD
TZOFFSETFROM:+0200
TZOFFSETTO:+0100
TZNAME:CET
DTSTART:19701025T030000
RRULE:FREQ=YEARLY;BYMONTH=10;BYDAY=-1SU
END:STANDARD
END:VTIMEZONE
BEGIN:VEVENT
UID:2485226:Event:2990475
DTSTAMP:20260424T155413Z
SUMMARY:13eme rite Munay-ki . Rituel de guérison de la matrice utéri
 ne.
DESCRIPTION:Le 13eme rite Munay-ki préservé depuis des milliers d'an
 nées et transmis par ces femmes Péruviennes qui se sont guéries de 
 la douleur. J'ai reçu ce rituel énergétique puissant, qui réveille
  le Féminin, le pouvoir de l'utérus, qui inities la guérison des so
 uffrances héritées de notre lignées féminine, ainsi que les femmes
  qui ont subi des violences sexuelles, de la devalorisation du pouvoir
  féminin, les fausses-couches, avortements, qui regrettent de ne pas 
 avoir eu d'enfants, qui ont eu une hystérectomie bénéficient de ce 
 rite;...\nJe le propose à mon tour à 6 femmes.\nMercredi 12 Décembr
 e de 18h30 à 21heures max à Luynes. Envoyez moi un mail pour vous in
 scrire ou un sms je vous enverrai les détails et quoi amener. Arrivez
  à 18h15 si possible. Parking facile, bus 11 ou 14 .\n\nPour plus d'i
 nformation, aller sur https://epanews.fr/events/13eme-rite-munay-ki-ri
 tuel-de-gu-rison-de-la-matrice-ut-rine
DTSTART;TZID=Europe/Paris:20181212T184500
DTEND;TZID=Europe/Paris:20181212T210000
CATEGORIES:13
LOCATION:LUYNES 13080
WEBSITE:
URL:
CONTACT:0616858555
ORGANIZER;CN=Evelyne:https://epanews.fr/profile/EvelyneValabregue
ATTACH;FMTTYPE="image/jpeg":
ATTENDEE;ROLE=REQ-PARTICIPANT;PARTSTAT=ACCEPTED;RSVP=TRUE;CN=Evelyne:h
 ttps://epanews.fr/profile/EvelyneValabregue
END:VEVENT
END:VCALENDAR
