BEGIN:VCALENDAR
PRODID:NingEventWidget-v1
VERSION:2.0
METHOD:PUBLISH
BEGIN:VTIMEZONE
TZID:Europe/Paris
X-LIC-LOCATION:Europe/Paris
BEGIN:DAYLIGHT
TZOFFSETFROM:+0100
TZOFFSETTO:+0200
TZNAME:CEST
DTSTART:19700329T020000
RRULE:FREQ=YEARLY;BYMONTH=3;BYDAY=-1SU
END:DAYLIGHT
BEGIN:STANDARD
TZOFFSETFROM:+0200
TZOFFSETTO:+0100
TZNAME:CET
DTSTART:19701025T030000
RRULE:FREQ=YEARLY;BYMONTH=10;BYDAY=-1SU
END:STANDARD
END:VTIMEZONE
BEGIN:VEVENT
UID:2485226:Event:2289491
DTSTAMP:20260420T192730Z
SUMMARY:13e Rencontres Zygomatiques : rire, bonheur, rigologie
DESCRIPTION:Dans le cadre du 13Ã¨me Rassemblement International des Ri
 eurs, je vous propose de nous retrouver lors de cette journÃ©e autour 
 du rire, du bonheur et de la rigologie.\nVoici le programme :\n9hÂ Â Â
   Yves-Alexandre Thalmann et FrÃ©deric Cosseron\nLe Journal des Rencon
 tres Zygomatiques\n 11h Â Â Corinne Cosseron\nBilan annuel de la rigol
 ogie\n 11h30 Jeffrey Briar\nLe lien entre la musique et le rire Ã  tra
 vers quelques grands compositeurs\nJeffrey Briar est le directeur du L
 aughter Yoga Institut de Californie, et est Ambassadeur du rire, Maste
 r teacher de yoga du rire, professeur de yoga et pianiste de concert.\
 nIl se propose de nous faire dÃ©couvrir quelques joyeuses pistes entre
  le rire et la musique.Â \nÂ \n14h Ã  17h Rigologie\nSÃ©ance complÃ¨te
  de rigologie et Frienship Meditation\nLes professeurs de l'Ecole Inte
 rnationale du Rire et du Bonheur vous propose de participer Ã  une sÃ©
 ance complÃ¨te de rigologieÂ  de14h Ã  17h pour tous les publics : enf
 ants, adolescents, patients, sÃ©niors et entreprises.\nVous dÃ©couvrir
 ez et participerez Ã  toutes les applications pratiques de la rigologi
 e : yoga du rire, psychologie positive, intelligence Ã©motionnelle, je
 ux psychocorporels, sophrologie ludique, mÃ©ditations actives.\nÂ ClÃ´
 ture par une magnifique mÃ©ditation sociale de Veeresh : La Frienship 
 Meditation\nÂ \n19h Ã  19h45 Â ApÃ©ritif-DÃ©dicaces\nLa Maison du Bonh
 eur\nPetit temps de pause avec apÃ©ritif offert et dÃ©dicaces avec tou
 s les intervenants Ã  la Maison du Bonheur\nÂ \nÂ 20h-23h Â SoirÃ©e Ri
 re et Danse\nSoirÃ©e Baleti & Jeux\nDans les Jardins du CinÃ©Mistral ,
  balÃ©ti et jeux coopÃ©ratifs - Tarif 8 â‚¬ boisson offerte\nÂ \nPour 
 plus dâ€™informationsÂ : http://www.ecolederire.org/evenements-rencont
 res-zygomatiques-symposium-international.html#sthash.P7iY2aPE.dpuf\nÂ 
 \nPAF :\nLa journÃ©e complÃ¨te : 30â‚¬\nIl est possible de venir seule
 ment pour la demi-journÃ©e pour 20â‚¬.\nÂ \nSalle Voltaire\n12 Quai Vo
 ltaire\n34110 Frontignan\n\nPour plus d'information, aller sur https:/
 /epanews.fr/events/13e-rencontres-zygomatiques-rire-bonheur-rigologie
DTSTART;TZID=Europe/Paris:20150502T090000
DTEND;TZID=Europe/Paris:20150502T173000
CATEGORIES:34
LOCATION:Frontignan
WEBSITE:http://www.ecolederire.org/evenements-rencontres-zygomatiques-
 symposium-international.html#sthash.P7iY2aPE.dpuf
URL:http://www.ecolederire.org/evenements-rencontres-zygomatiques-symp
 osium-international.html#sthash.P7iY2aPE.dpuf
CONTACT:06 25 70 69 36
ORGANIZER:Ecole Internationale du Rire et du Bonheur
ATTACH;FMTTYPE="image/jpeg":http://storage.ning.com/topology/rest/1.0/
 file/get/1663372996?profile=original
ATTENDEE;ROLE=REQ-PARTICIPANT;PARTSTAT=ACCEPTED;RSVP=TRUE;CN="Sophie v
 db":https://epanews.fr/profile/Sophievdb
END:VEVENT
END:VCALENDAR
