BEGIN:VCALENDAR
PRODID:NingEventWidget-v1
VERSION:2.0
METHOD:PUBLISH
BEGIN:VTIMEZONE
TZID:Europe/Paris
X-LIC-LOCATION:Europe/Paris
BEGIN:DAYLIGHT
TZOFFSETFROM:+0100
TZOFFSETTO:+0200
TZNAME:CEST
DTSTART:19700329T020000
RRULE:FREQ=YEARLY;BYMONTH=3;BYDAY=-1SU
END:DAYLIGHT
BEGIN:STANDARD
TZOFFSETFROM:+0200
TZOFFSETTO:+0100
TZNAME:CET
DTSTART:19701025T030000
RRULE:FREQ=YEARLY;BYMONTH=10;BYDAY=-1SU
END:STANDARD
END:VTIMEZONE
BEGIN:VEVENT
UID:2485226:Event:21923
DTSTAMP:20260422T174548Z
SUMMARY:12 et 13 dec we massage ayurvédique près de Bergerac
DESCRIPTION:Le massage Abhyanga est le massage traditionnel indien:\n.
  - il évacue les toxines,\n. - recharge le corps en énergie vitale (
 prana),\n. - rééquilibre les tempéraments ayurvédiques (doshas),\n
 . - soulage les tensions,\n. - stimule les tissus corporels (dhatus), 
 par massage profond.\nAu cours du week end des 12 et 13 décembre, vou
 s participerez à 4 ateliers de massage\nayurvédique.\nLes ateliers s
 eront animés par Jean-Michel Gallet\nJean-Michel est praticien en mas
 sage bien-être, membre de la Fédération française de Massage Bien-
 Etre.\nFormé en particulier au massage sensitif et au massage ayurvé
 dique, il exerce en Région parisienne.\nHébergements sur place à pr
 ix modiques.\n\nProgramme détaillé sur le stage et l'hébergement su
 r demande auprès de\nJean-Michel 06 74 64 03 16 -\n01 72 58 39 56\nco
 ntact@afleurdepeau.mobi\nwww.afleurdepeau.mobi\n\nPour plus d'informat
 ion, aller sur https://epanews.fr/events/12-et-13-dec-we-massage
DTSTART;TZID=Europe/Paris:20091212T090000
DTEND;TZID=Europe/Paris:20091213T170000
CATEGORIES:47
LOCATION:stage
WEBSITE:http://fermedemercier.com
URL:http://fermedemercier.com
CONTACT:06 74 64 03 16
ORGANIZER;CN="Jean-Michel Gallet":https://epanews.fr/profile/Gallet
ATTACH;FMTTYPE="image/jpeg":http://storage.ning.com/topology/rest/1.0/
 file/get/1662280461?profile=original
ATTENDEE;ROLE=REQ-PARTICIPANT;PARTSTAT=ACCEPTED;RSVP=TRUE;CN="Jean-Mic
 hel Gallet":https://epanews.fr/profile/Gallet
END:VEVENT
END:VCALENDAR
