BEGIN:VCALENDAR
PRODID:NingEventWidget-v1
VERSION:2.0
METHOD:PUBLISH
BEGIN:VTIMEZONE
TZID:Europe/Paris
X-LIC-LOCATION:Europe/Paris
BEGIN:DAYLIGHT
TZOFFSETFROM:+0100
TZOFFSETTO:+0200
TZNAME:CEST
DTSTART:19700329T020000
RRULE:FREQ=YEARLY;BYMONTH=3;BYDAY=-1SU
END:DAYLIGHT
BEGIN:STANDARD
TZOFFSETFROM:+0200
TZOFFSETTO:+0100
TZNAME:CET
DTSTART:19701025T030000
RRULE:FREQ=YEARLY;BYMONTH=10;BYDAY=-1SU
END:STANDARD
END:VTIMEZONE
BEGIN:VEVENT
UID:2485226:Event:1283449
DTSTAMP:20260421T102556Z
SUMMARY:11ème Rencontres Zygomatiques
DESCRIPTION:Dans la suite du Festi'Bonheur j'ai le plaisir de vous inv
 iter au\n11ème RENCONTRES ZIGOMATIQUES\nAvec la participation de Yves
 -Alexandre Thalmann !\n \nSymposium international sur les bienfaits d
 u rire et des sentiments positifs sur la santé   Sous le parrainage d
 u psychologue positif suisse Yves-Alexandre Thalmann  Les Rencontres Z
 ygomatiques® sont le premier symposium international annuel sur les b
 ienfaits du rire, des sentiments positifs et du bonheur sur la santé 
 (rigologie, psychologie positive et neurosciences) et se déroulent ch
 aque année depuis 2003, à l'initiative de Corinne Cosseron, fondatri
 ce de L'Ecole Internationale du Rire et du Bonheur dans le cadre du Ra
 ssemblement International des Rieurs à Frontignan près de Montpellie
 r dans l'Hérault.  Présentation du Journal joyeux annuel des 11e Ren
 contres Zygomatiques par Frédéric Cosseron.\n Tout le programme sur 
 le site de l'école Internationale de rire et du bonheur : http://www.
 ecolederire.org/evenements-rencontres-zygomatiques-symposium-internati
 onal.html\n \nEntrée à 30 € ou PASS Festi'Bonheur.\n\nPour plus d
 'information, aller sur https://epanews.fr/events/11-me-rencontres-zyg
 omatiques
DTSTART;TZID=Europe/Paris:20130504T080000
DTEND;TZID=Europe/Paris:20130504T180000
CATEGORIES:34
LOCATION:Frontignan
WEBSITE:http://www.ecolederire.org/evenements-rencontres-zygomatiques-
 symposium-international.html
URL:http://www.ecolederire.org/evenements-rencontres-zygomatiques-symp
 osium-international.html
CONTACT:06 70 67 86 34
ORGANIZER:Ecole Internationale du Rire et du Bonheur
ATTACH;FMTTYPE="image/jpeg":http://storage.ning.com/topology/rest/1.0/
 file/get/1662803481?profile=original
ATTENDEE;ROLE=REQ-PARTICIPANT;PARTSTAT=ACCEPTED;RSVP=TRUE;CN="Sophie v
 db":https://epanews.fr/profile/Sophievdb
END:VEVENT
END:VCALENDAR
