BEGIN:VCALENDAR
PRODID:NingEventWidget-v1
VERSION:2.0
METHOD:PUBLISH
BEGIN:VTIMEZONE
TZID:Europe/Paris
X-LIC-LOCATION:Europe/Paris
BEGIN:DAYLIGHT
TZOFFSETFROM:+0100
TZOFFSETTO:+0200
TZNAME:CEST
DTSTART:19700329T020000
RRULE:FREQ=YEARLY;BYMONTH=3;BYDAY=-1SU
END:DAYLIGHT
BEGIN:STANDARD
TZOFFSETFROM:+0200
TZOFFSETTO:+0100
TZNAME:CET
DTSTART:19701025T030000
RRULE:FREQ=YEARLY;BYMONTH=10;BYDAY=-1SU
END:STANDARD
END:VTIMEZONE
BEGIN:VEVENT
UID:2485226:Event:834283
DTSTAMP:20260420T010939Z
SUMMARY:11Â° Ã©dition du salon Nature Essentielle
DESCRIPTION:Aujourdâ€™hui, chacun de nos faits et gestes est rythmÃ© p
 ar une volontÃ©Â de prendre soin de soi, pour tendre vers une meilleur
 e qualitÃ© de vie. Nous aspirons de plus en plus Ã  une vie Ã©quilibrÃ
 ©e dans le respect de notre corps, de notre mental et en harmonie avec
  notre environnement. Le recours aux aliments biologiques, aux plantes
  et aux produits naturels pour lâ€™alimentation, les soins du corps et
  lâ€™entretien de la maison rÃ©pond parfaitement Ã  cette aspiration.Â
  Le salon Naturessentielle propose la dÃ©couverte de ce nouvel art de 
 vivre, avec lâ€™objectif de sensibiliser le visiteur sur lâ€™intÃ©rÃªt
  de prendre soin de lui, en vue dâ€™un meilleur respect de soi, des au
 tres et de son environnement.Â Â Â Â Â Â Â Â Â Â Â Â Â Â  Â Â Â Â Â Â 
 Â Â Â Â Â Â Â Â Â Â Â Â Â Â Â Â Â Â Â Â Â Â Â Â Â Â Â Â Â Â Â Â Â Â Â 
 Â Â Â Â Â Â Â Â Â Â Â Â Â Â Â Â Â Â Â Â Â Â Â Â Â Â Â Â Â  Â Â Â Â Â Â
  Â Â Â Â Â Â Â Â Â Â Â Â Â Â Â Â Â Â Â Â Â Â Â Â Â Â Â Â Â Â Â Â Â Â Â
  Â Â Â Â Â \nUne premiÃ¨re en Bourgogne, avec la prÃ©sence exceptionne
 lle Ã  Dijon deÂ Lise Bourbeau, confÃ©renciÃ¨re & fondatrice de l'Ã©co
 leÂ Ã‰coute Ton Corps au QuÃ©bec (www.ecoutetoncorps.com),Â le samedi 
 13 octobre, pour une confÃ©rence, dans le cadre de sa tournÃ©e europÃ©
 en :Â Â Â Â Â Â Â Â Â Â Â Â Â Â Â Â Â Â Â Â Â Â Â Â Â Â Â Â Â Â Â Â Â 
 Â Â Â Â Â Â Â Â Â Â Â Â Â Â Â Â Â Â Â Â Â Â Â Â Â Â Â Â Â Â Â Â Â Â Â 
 Â Â Â Â Â Â Â Â Â Â Â Â Â Â Â Â Â Â Â Â Â Â Â Â Â Â Â Â Â Â Â Â Â Â Â 
 Â Â Â Â Â Â Â Â Â Â Â Â Â Â Â Â Â Â Â Â Â Â Â Â Â  Â Â Â Â Â Â Â Â Â Â
  Â  \"Se guÃ©rir en s'aimant\" de 17h Ã  19h\nÂ Â Â Â Â Â Â Â Â Â Â Â 
 Â Â Â Â Â Â Â Â Â Â Â Â Â Â Â Â Â \nEntrÃ©e : 3Â â‚¬ vendredi - 6 â‚¬Â
   samedi & dimancheÂ  Pass 3 jours = 10 â‚¬\nÂ \n\n\nPour plus d'infor
 mation, aller sur https://epanews.fr/events/11-dition-du-salon-nature-
 essentielle
DTSTART;TZID=Europe/Paris:20121012T140000
DTEND;TZID=Europe/Paris:20121014T190000
CATEGORIES:21
LOCATION:Dijon
WEBSITE:http://www.forcexpo.fr
URL:http://www.forcexpo.fr
CONTACT:0380608608
ORGANIZER;CN=ForcExpo:https://epanews.fr/profile/ForcExpo
ATTACH;FMTTYPE="image/jpeg":
ATTENDEE;ROLE=REQ-PARTICIPANT;PARTSTAT=ACCEPTED;RSVP=TRUE;CN=ForcExpo:
 https://epanews.fr/profile/ForcExpo
END:VEVENT
END:VCALENDAR
