BEGIN:VCALENDAR
PRODID:NingEventWidget-v1
VERSION:2.0
METHOD:PUBLISH
BEGIN:VTIMEZONE
TZID:Europe/Paris
X-LIC-LOCATION:Europe/Paris
BEGIN:DAYLIGHT
TZOFFSETFROM:+0100
TZOFFSETTO:+0200
TZNAME:CEST
DTSTART:19700329T020000
RRULE:FREQ=YEARLY;BYMONTH=3;BYDAY=-1SU
END:DAYLIGHT
BEGIN:STANDARD
TZOFFSETFROM:+0200
TZOFFSETTO:+0100
TZNAME:CET
DTSTART:19701025T030000
RRULE:FREQ=YEARLY;BYMONTH=10;BYDAY=-1SU
END:STANDARD
END:VTIMEZONE
BEGIN:VEVENT
UID:2485226:Event:6364
DTSTAMP:20260420T001048Z
SUMMARY:1 er Salon du Bien-être du Haut Vaucluse
DESCRIPTION:Salon du Bien-être\n\nFatigue, stress, problèmes du quot
 idien…\nLa morosité s’installe, la déprime pointe son nez, il es
 t temps de réagir.\nQue diriez-vous d’une pause détente, rien que 
 pour vous et votre bien-être ?\n\nNous vous proposons, de lâcher pri
 se et de découvrir un ensemble de solutions et d’attitudes pour vou
 s permettre de renforcer votre bien-être et votre équilibre personne
 l…\n\n…dans vos différents temps de vie (vie professionnelle, vie
  familiale, vie personnelle),\n…lié aux préoccupations et besoins 
 de votre âge,\n…à travers une mobilisation de tous vos sens !\n\nS
 oins du corps, soins de l’esprit, détendez-vous et ressourcez-vous 
 dans un espace entièrement dédié au bien-être. Rencontrez les prof
 essionnels des méthodes zen et renouez avec la nature en découvrant 
 des produits sains pour le corps et la maison.\nNotez bien la date ...
  SAMEDI 29 AOÛT 2009\nInformations pratiques\n\nDate : Samedi 29 Aoû
 t 2009\nLieu : Marché aux puces - Avenue de la libération 84150 Jonq
 uières\nHoraires : de 8h00 à 18h00\n\nPrix d'entrée : GRATUIT\nGran
 d parking : 1 €\nAccès :\nSortie A7 Orange Sud, suivre \"Jonquière
 s\" (moins de 4 kms), vous ne pouvez pas le raté, c'est juste à l'en
 trée de Jonquières ^^\n\nRestauration :\n* Restauration auprès des 
 exposants\n* Buvette avec rafraichissement.\n\nSanitaires gratuits\n\n
 Vous souhaitez participer au salon en tant qu'exposant ?\nContactez-no
 us, nous aurons plaisir à vous répondre !\nToute information souhait
 ée vous sera remise et ce, sans engagement de votre part.\n\nTel : 04
  90 34 70 64\nE-mail : tbe84@orange.fr\n\n\nVide grenier puériculture
 /Enfantset Marché Bio\nLe 29 Août 09\nde 8h à 18h\nAux marché aux 
 puces de Jonquières (84150)\n\nLe même jour que le Salon du Bien-êt
 re !\n\nToutes les infos sur notre site : www.salondubienetre.tbe84.co
 m\n\nPour plus d'information, aller sur https://epanews.fr/events/1-er
 -salon-du-bienetre-du-haut
DTSTART;TZID=Europe/Paris:20090829T000000
DTEND;TZID=Europe/Paris:20090829T235900
CATEGORIES:84
LOCATION:Foires et Salons
WEBSITE:http://maps.google.com/maps/ms?ie=UTF8&hl=fr&msa=0&ll=44.11679
 2,4.881953&spn=0.004575,0.011373&z=17&msid=114931777287324706967.00046
 b46176043b96de8f
URL:http://maps.google.com/maps/ms?ie=UTF8&hl=fr&msa=0&ll=44.116792,4.
 881953&spn=0.004575,0.011373&z=17&msid=114931777287324706967.00046b461
 76043b96de8f
CONTACT:0490347062
ORGANIZER:Association Terre de Bien-être (tbe84)
ATTACH;FMTTYPE="image/jpeg":http://storage.ning.com/topology/rest/1.0/
 file/get/1662272971?profile=original
ATTENDEE;ROLE=REQ-PARTICIPANT;PARTSTAT=ACCEPTED;RSVP=TRUE;CN="Terre de
  Bien-être":https://epanews.fr/profile/terredebienetre
END:VEVENT
END:VCALENDAR
