BEGIN:VCALENDAR
PRODID:NingEventWidget-v1
VERSION:2.0
METHOD:PUBLISH
BEGIN:VTIMEZONE
TZID:Europe/Paris
X-LIC-LOCATION:Europe/Paris
BEGIN:DAYLIGHT
TZOFFSETFROM:+0100
TZOFFSETTO:+0200
TZNAME:CEST
DTSTART:19700329T020000
RRULE:FREQ=YEARLY;BYMONTH=3;BYDAY=-1SU
END:DAYLIGHT
BEGIN:STANDARD
TZOFFSETFROM:+0200
TZOFFSETTO:+0100
TZNAME:CET
DTSTART:19701025T030000
RRULE:FREQ=YEARLY;BYMONTH=10;BYDAY=-1SU
END:STANDARD
END:VTIMEZONE
BEGIN:VEVENT
UID:2485226:Event:456311
DTSTAMP:20260422T221803Z
SUMMARY:1 er degrÃ© Reiki USUI 
DESCRIPTION:Stage se dÃ©roulera sur deux jours de 10h Ã  17 heures pou
 r les journÃ©es du samedi et du dimanche .\nQuatre initiations . Vous 
 apprendrez comment rÃ©aliser un soin sur vous mÃªme mais aussi sur les
  autres . Travaux pratiques prÃ©vus .\nPrÃ©voir un pique nique que nou
 s partagerons dans la convivialitÃ©\nUn diplome et un livret seront dÃ
 ©livrÃ©s Ã  la fin du stage;\nTarif libre .Une participation de 25 eur
 os vous sera demandÃ© pour les frais d'impression du livret et du dipl
 ome qui vous serons remis Ã  la fin du stage , ainsi que pour couvrir 
 les frais d'organisation\nS'inscrire au 06.82.38.12.11 ou me contacter
  par mail Ã  :ncltnicole@sfr.fr .\n\nPour plus d'information, aller su
 r https://epanews.fr/events/1-er-degr-reiki-usui
DTSTART;TZID=Europe/Paris:20110917T100000
DTEND;TZID=Europe/Paris:20110918T170000
CATEGORIES:04, 05, 06, 13, 26, 84
LOCATION:Digne Les Bains 
WEBSITE:
URL:
CONTACT:0682381211
ORGANIZER;CN="Nicole FOURCADE":https://epanews.fr/profile/Lhamo
ATTACH;FMTTYPE="image/jpeg":http://storage.ning.com/topology/rest/1.0/
 file/get/1662444254?profile=original
ATTENDEE;ROLE=REQ-PARTICIPANT;PARTSTAT=ACCEPTED;RSVP=TRUE;CN="Nicole F
 OURCADE":https://epanews.fr/profile/Lhamo
END:VEVENT
END:VCALENDAR
